BEGIN:VCALENDAR
VERSION:2.0
PRODID:-//Space Center Houston - ECPv6.15.15//NONSGML v1.0//EN
CALSCALE:GREGORIAN
METHOD:PUBLISH
X-ORIGINAL-URL:https://spacecenter.org
X-WR-CALDESC:Events for Space Center Houston
REFRESH-INTERVAL;VALUE=DURATION:PT1H
X-Robots-Tag:noindex
X-PUBLISHED-TTL:PT1H
BEGIN:VTIMEZONE
TZID:America/Chicago
BEGIN:DAYLIGHT
TZOFFSETFROM:-0600
TZOFFSETTO:-0500
TZNAME:CDT
DTSTART:20260308T080000
END:DAYLIGHT
BEGIN:STANDARD
TZOFFSETFROM:-0500
TZOFFSETTO:-0600
TZNAME:CST
DTSTART:20261101T070000
END:STANDARD
BEGIN:DAYLIGHT
TZOFFSETFROM:-0600
TZOFFSETTO:-0500
TZNAME:CDT
DTSTART:20270314T080000
END:DAYLIGHT
BEGIN:STANDARD
TZOFFSETFROM:-0500
TZOFFSETTO:-0600
TZNAME:CST
DTSTART:20271107T070000
END:STANDARD
BEGIN:DAYLIGHT
TZOFFSETFROM:-0600
TZOFFSETTO:-0500
TZNAME:CDT
DTSTART:20280312T080000
END:DAYLIGHT
BEGIN:STANDARD
TZOFFSETFROM:-0500
TZOFFSETTO:-0600
TZNAME:CST
DTSTART:20281105T070000
END:STANDARD
END:VTIMEZONE
BEGIN:VEVENT
DTSTART;TZID=America/Chicago:20270519T121500
DTEND;TZID=America/Chicago:20270519T123000
DTSTAMP:20260422T020850
CREATED:20250602T213059Z
LAST-MODIFIED:20250603T190345Z
UID:10142199-1810728900-1810729800@spacecenter.org
SUMMARY:Story Corner Live Presentation
DESCRIPTION:
URL:https://spacecenter.org/events-calendar-event/story-corner-live-presentation-2/2027-05-19/
LOCATION:Theater – Artemis
CATEGORIES:Live Presentation
END:VEVENT
BEGIN:VEVENT
DTSTART;TZID=America/Chicago:20270519T124500
DTEND;TZID=America/Chicago:20270519T131500
DTSTAMP:20260422T020850
CREATED:20250602T214012Z
LAST-MODIFIED:20250603T190811Z
UID:10153167-1810730700-1810732500@spacecenter.org
SUMMARY:Artemis Live Presentation
DESCRIPTION:
URL:https://spacecenter.org/events-calendar-event/artemis-live-presentation-2/2027-05-19/
LOCATION:Theater – Destiny
CATEGORIES:Live Presentation
ATTACH;FMTTYPE=image/jpeg:https://spacecenter.org/wp-content/uploads/2022/10/Artemis-Capsule.jpeg
END:VEVENT
BEGIN:VEVENT
DTSTART;TZID=America/Chicago:20270519T131500
DTEND;TZID=America/Chicago:20270519T133000
DTSTAMP:20260422T020850
CREATED:20250602T213201Z
LAST-MODIFIED:20250603T190922Z
UID:10160479-1810732500-1810733400@spacecenter.org
SUMMARY:Story Corner Live Presentation
DESCRIPTION:
URL:https://spacecenter.org/events-calendar-event/story-corner-live-presentation-3/2027-05-19/
LOCATION:Theater – Artemis
CATEGORIES:Live Presentation
END:VEVENT
BEGIN:VEVENT
DTSTART;TZID=America/Chicago:20270519T134500
DTEND;TZID=America/Chicago:20270519T140000
DTSTAMP:20260422T020850
CREATED:20250602T212635Z
LAST-MODIFIED:20250603T191121Z
UID:10171447-1810734300-1810735200@spacecenter.org
SUMMARY:OSIRIS Rex Live Presentation
DESCRIPTION:
URL:https://spacecenter.org/events-calendar-event/osiris-rex-live-presentation-2/2027-05-19/
LOCATION:Mission Sketch Staircase
CATEGORIES:Live Presentation
ATTACH;FMTTYPE=image/jpeg:https://spacecenter.org/wp-content/uploads/2024/03/web-march2024_tls_osirisrex.jpg
END:VEVENT
BEGIN:VEVENT
DTSTART;TZID=America/Chicago:20270519T134500
DTEND;TZID=America/Chicago:20270519T140000
DTSTAMP:20260422T020850
CREATED:20250602T213557Z
LAST-MODIFIED:20250603T191327Z
UID:10175103-1810734300-1810735200@spacecenter.org
SUMMARY:James Webb Live Presentation
DESCRIPTION:
URL:https://spacecenter.org/events-calendar-event/james-webb-live-presentation-2/2027-05-19/
LOCATION:Theater – Destiny
CATEGORIES:Live Presentation
END:VEVENT
BEGIN:VEVENT
DTSTART;TZID=America/Chicago:20270519T144500
DTEND;TZID=America/Chicago:20270519T150000
DTSTAMP:20260422T020850
CREATED:20250602T213716Z
LAST-MODIFIED:20250603T191759Z
UID:10189727-1810737900-1810738800@spacecenter.org
SUMMARY:James Webb Live Presentation
DESCRIPTION:
URL:https://spacecenter.org/events-calendar-event/james-webb-live-presentation-3/2027-05-19/
LOCATION:Theater – Destiny
CATEGORIES:Live Presentation
END:VEVENT
BEGIN:VEVENT
DTSTART;TZID=America/Chicago:20270519T151500
DTEND;TZID=America/Chicago:20270519T153000
DTSTAMP:20260422T020850
CREATED:20250602T213249Z
LAST-MODIFIED:20250603T191942Z
UID:10197039-1810739700-1810740600@spacecenter.org
SUMMARY:Story Corner Live Presentation
DESCRIPTION:
URL:https://spacecenter.org/events-calendar-event/story-corner-live-presentation-4/2027-05-19/
LOCATION:Theater – Artemis
CATEGORIES:Live Presentation
END:VEVENT
BEGIN:VEVENT
DTSTART;TZID=America/Chicago:20270519T154500
DTEND;TZID=America/Chicago:20270519T161500
DTSTAMP:20260422T020850
CREATED:20250602T214125Z
LAST-MODIFIED:20250603T192119Z
UID:10208007-1810741500-1810743300@spacecenter.org
SUMMARY:Artemis Live Presentation
DESCRIPTION:
URL:https://spacecenter.org/events-calendar-event/artemis-live-presentation-3/2027-05-19/
LOCATION:Theater – Destiny
CATEGORIES:Live Presentation
ATTACH;FMTTYPE=image/jpeg:https://spacecenter.org/wp-content/uploads/2022/10/Artemis-Capsule.jpeg
END:VEVENT
BEGIN:VEVENT
DTSTART;TZID=America/Chicago:20270519T163000
DTEND;TZID=America/Chicago:20270519T164500
DTSTAMP:20260422T020850
CREATED:20250602T212726Z
LAST-MODIFIED:20250603T192225Z
UID:10215319-1810744200-1810745100@spacecenter.org
SUMMARY:OSIRIS Rex Live Presentation
DESCRIPTION:
URL:https://spacecenter.org/events-calendar-event/osiris-rex-live-presentation-3/2027-05-19/
LOCATION:Mission Sketch Staircase
CATEGORIES:Live Presentation
ATTACH;FMTTYPE=image/jpeg:https://spacecenter.org/wp-content/uploads/2024/03/web-march2024_tls_osirisrex.jpg
END:VEVENT
BEGIN:VEVENT
DTSTART;TZID=America/Chicago:20270520T104500
DTEND;TZID=America/Chicago:20270520T110000
DTSTAMP:20260422T020850
CREATED:20250602T212526Z
LAST-MODIFIED:20250603T185502Z
UID:10101984-1810809900-1810810800@spacecenter.org
SUMMARY:OSIRIS Rex Live Presentation
DESCRIPTION:
URL:https://spacecenter.org/events-calendar-event/osiris-rex-live-presentation/2027-05-20/
LOCATION:Mission Sketch Staircase
CATEGORIES:Live Presentation
ATTACH;FMTTYPE=image/jpeg:https://spacecenter.org/wp-content/uploads/2024/03/web-march2024_tls_osirisrex.jpg
END:VEVENT
BEGIN:VEVENT
DTSTART;TZID=America/Chicago:20270520T104500
DTEND;TZID=America/Chicago:20270520T111500
DTSTAMP:20260422T020850
CREATED:20250602T213905Z
LAST-MODIFIED:20250603T185637Z
UID:10109296-1810809900-1810811700@spacecenter.org
SUMMARY:Artemis Live Presentation
DESCRIPTION:
URL:https://spacecenter.org/events-calendar-event/artemis-live-presentation/2027-05-20/
LOCATION:Theater – Destiny
CATEGORIES:Live Presentation
ATTACH;FMTTYPE=image/jpeg:https://spacecenter.org/wp-content/uploads/2022/10/Artemis-Capsule.jpeg
END:VEVENT
BEGIN:VEVENT
DTSTART;TZID=America/Chicago:20270520T111500
DTEND;TZID=America/Chicago:20270520T113000
DTSTAMP:20260422T020850
CREATED:20250602T213010Z
LAST-MODIFIED:20250603T185901Z
UID:10120264-1810811700-1810812600@spacecenter.org
SUMMARY:Story Corner Live Presentation
DESCRIPTION:
URL:https://spacecenter.org/events-calendar-event/story-corner-live-presentation/2027-05-20/
LOCATION:Theater – Artemis
CATEGORIES:Live Presentation
END:VEVENT
BEGIN:VEVENT
DTSTART;TZID=America/Chicago:20270520T114500
DTEND;TZID=America/Chicago:20270520T120000
DTSTAMP:20260422T020850
CREATED:20250602T213503Z
LAST-MODIFIED:20250603T190256Z
UID:10138544-1810813500-1810814400@spacecenter.org
SUMMARY:James Webb Live Presentation
DESCRIPTION:
URL:https://spacecenter.org/events-calendar-event/james-webb-live-presentation/2027-05-20/
LOCATION:Theater – Destiny
CATEGORIES:Live Presentation
END:VEVENT
BEGIN:VEVENT
DTSTART;TZID=America/Chicago:20270520T121500
DTEND;TZID=America/Chicago:20270520T123000
DTSTAMP:20260422T020850
CREATED:20250602T213059Z
LAST-MODIFIED:20250603T190345Z
UID:10142200-1810815300-1810816200@spacecenter.org
SUMMARY:Story Corner Live Presentation
DESCRIPTION:
URL:https://spacecenter.org/events-calendar-event/story-corner-live-presentation-2/2027-05-20/
LOCATION:Theater – Artemis
CATEGORIES:Live Presentation
END:VEVENT
BEGIN:VEVENT
DTSTART;TZID=America/Chicago:20270520T124500
DTEND;TZID=America/Chicago:20270520T131500
DTSTAMP:20260422T020850
CREATED:20250602T214012Z
LAST-MODIFIED:20250603T190811Z
UID:10153168-1810817100-1810818900@spacecenter.org
SUMMARY:Artemis Live Presentation
DESCRIPTION:
URL:https://spacecenter.org/events-calendar-event/artemis-live-presentation-2/2027-05-20/
LOCATION:Theater – Destiny
CATEGORIES:Live Presentation
ATTACH;FMTTYPE=image/jpeg:https://spacecenter.org/wp-content/uploads/2022/10/Artemis-Capsule.jpeg
END:VEVENT
BEGIN:VEVENT
DTSTART;TZID=America/Chicago:20270520T131500
DTEND;TZID=America/Chicago:20270520T133000
DTSTAMP:20260422T020850
CREATED:20250602T213201Z
LAST-MODIFIED:20250603T190922Z
UID:10160480-1810818900-1810819800@spacecenter.org
SUMMARY:Story Corner Live Presentation
DESCRIPTION:
URL:https://spacecenter.org/events-calendar-event/story-corner-live-presentation-3/2027-05-20/
LOCATION:Theater – Artemis
CATEGORIES:Live Presentation
END:VEVENT
BEGIN:VEVENT
DTSTART;TZID=America/Chicago:20270520T134500
DTEND;TZID=America/Chicago:20270520T140000
DTSTAMP:20260422T020850
CREATED:20250602T212635Z
LAST-MODIFIED:20250603T191121Z
UID:10171448-1810820700-1810821600@spacecenter.org
SUMMARY:OSIRIS Rex Live Presentation
DESCRIPTION:
URL:https://spacecenter.org/events-calendar-event/osiris-rex-live-presentation-2/2027-05-20/
LOCATION:Mission Sketch Staircase
CATEGORIES:Live Presentation
ATTACH;FMTTYPE=image/jpeg:https://spacecenter.org/wp-content/uploads/2024/03/web-march2024_tls_osirisrex.jpg
END:VEVENT
BEGIN:VEVENT
DTSTART;TZID=America/Chicago:20270520T134500
DTEND;TZID=America/Chicago:20270520T140000
DTSTAMP:20260422T020850
CREATED:20250602T213557Z
LAST-MODIFIED:20250603T191327Z
UID:10175104-1810820700-1810821600@spacecenter.org
SUMMARY:James Webb Live Presentation
DESCRIPTION:
URL:https://spacecenter.org/events-calendar-event/james-webb-live-presentation-2/2027-05-20/
LOCATION:Theater – Destiny
CATEGORIES:Live Presentation
END:VEVENT
BEGIN:VEVENT
DTSTART;TZID=America/Chicago:20270520T144500
DTEND;TZID=America/Chicago:20270520T150000
DTSTAMP:20260422T020850
CREATED:20250602T213716Z
LAST-MODIFIED:20250603T191759Z
UID:10189728-1810824300-1810825200@spacecenter.org
SUMMARY:James Webb Live Presentation
DESCRIPTION:
URL:https://spacecenter.org/events-calendar-event/james-webb-live-presentation-3/2027-05-20/
LOCATION:Theater – Destiny
CATEGORIES:Live Presentation
END:VEVENT
BEGIN:VEVENT
DTSTART;TZID=America/Chicago:20270520T151500
DTEND;TZID=America/Chicago:20270520T153000
DTSTAMP:20260422T020850
CREATED:20250602T213249Z
LAST-MODIFIED:20250603T191942Z
UID:10197040-1810826100-1810827000@spacecenter.org
SUMMARY:Story Corner Live Presentation
DESCRIPTION:
URL:https://spacecenter.org/events-calendar-event/story-corner-live-presentation-4/2027-05-20/
LOCATION:Theater – Artemis
CATEGORIES:Live Presentation
END:VEVENT
BEGIN:VEVENT
DTSTART;TZID=America/Chicago:20270520T154500
DTEND;TZID=America/Chicago:20270520T161500
DTSTAMP:20260422T020850
CREATED:20250602T214125Z
LAST-MODIFIED:20250603T192119Z
UID:10208008-1810827900-1810829700@spacecenter.org
SUMMARY:Artemis Live Presentation
DESCRIPTION:
URL:https://spacecenter.org/events-calendar-event/artemis-live-presentation-3/2027-05-20/
LOCATION:Theater – Destiny
CATEGORIES:Live Presentation
ATTACH;FMTTYPE=image/jpeg:https://spacecenter.org/wp-content/uploads/2022/10/Artemis-Capsule.jpeg
END:VEVENT
BEGIN:VEVENT
DTSTART;TZID=America/Chicago:20270520T163000
DTEND;TZID=America/Chicago:20270520T164500
DTSTAMP:20260422T020850
CREATED:20250602T212726Z
LAST-MODIFIED:20250603T192225Z
UID:10215320-1810830600-1810831500@spacecenter.org
SUMMARY:OSIRIS Rex Live Presentation
DESCRIPTION:
URL:https://spacecenter.org/events-calendar-event/osiris-rex-live-presentation-3/2027-05-20/
LOCATION:Mission Sketch Staircase
CATEGORIES:Live Presentation
ATTACH;FMTTYPE=image/jpeg:https://spacecenter.org/wp-content/uploads/2024/03/web-march2024_tls_osirisrex.jpg
END:VEVENT
BEGIN:VEVENT
DTSTART;TZID=America/Chicago:20270521T104500
DTEND;TZID=America/Chicago:20270521T110000
DTSTAMP:20260422T020850
CREATED:20250602T212526Z
LAST-MODIFIED:20250603T185502Z
UID:10101985-1810896300-1810897200@spacecenter.org
SUMMARY:OSIRIS Rex Live Presentation
DESCRIPTION:
URL:https://spacecenter.org/events-calendar-event/osiris-rex-live-presentation/2027-05-21/
LOCATION:Mission Sketch Staircase
CATEGORIES:Live Presentation
ATTACH;FMTTYPE=image/jpeg:https://spacecenter.org/wp-content/uploads/2024/03/web-march2024_tls_osirisrex.jpg
END:VEVENT
BEGIN:VEVENT
DTSTART;TZID=America/Chicago:20270521T104500
DTEND;TZID=America/Chicago:20270521T111500
DTSTAMP:20260422T020850
CREATED:20250602T213905Z
LAST-MODIFIED:20250603T185637Z
UID:10109297-1810896300-1810898100@spacecenter.org
SUMMARY:Artemis Live Presentation
DESCRIPTION:
URL:https://spacecenter.org/events-calendar-event/artemis-live-presentation/2027-05-21/
LOCATION:Theater – Destiny
CATEGORIES:Live Presentation
ATTACH;FMTTYPE=image/jpeg:https://spacecenter.org/wp-content/uploads/2022/10/Artemis-Capsule.jpeg
END:VEVENT
BEGIN:VEVENT
DTSTART;TZID=America/Chicago:20270521T111500
DTEND;TZID=America/Chicago:20270521T113000
DTSTAMP:20260422T020850
CREATED:20250602T213010Z
LAST-MODIFIED:20250603T185901Z
UID:10120265-1810898100-1810899000@spacecenter.org
SUMMARY:Story Corner Live Presentation
DESCRIPTION:
URL:https://spacecenter.org/events-calendar-event/story-corner-live-presentation/2027-05-21/
LOCATION:Theater – Artemis
CATEGORIES:Live Presentation
END:VEVENT
BEGIN:VEVENT
DTSTART;TZID=America/Chicago:20270521T114500
DTEND;TZID=America/Chicago:20270521T120000
DTSTAMP:20260422T020850
CREATED:20250602T213503Z
LAST-MODIFIED:20250603T190256Z
UID:10138545-1810899900-1810900800@spacecenter.org
SUMMARY:James Webb Live Presentation
DESCRIPTION:
URL:https://spacecenter.org/events-calendar-event/james-webb-live-presentation/2027-05-21/
LOCATION:Theater – Destiny
CATEGORIES:Live Presentation
END:VEVENT
BEGIN:VEVENT
DTSTART;TZID=America/Chicago:20270521T121500
DTEND;TZID=America/Chicago:20270521T123000
DTSTAMP:20260422T020850
CREATED:20250602T213059Z
LAST-MODIFIED:20250603T190345Z
UID:10142201-1810901700-1810902600@spacecenter.org
SUMMARY:Story Corner Live Presentation
DESCRIPTION:
URL:https://spacecenter.org/events-calendar-event/story-corner-live-presentation-2/2027-05-21/
LOCATION:Theater – Artemis
CATEGORIES:Live Presentation
END:VEVENT
BEGIN:VEVENT
DTSTART;TZID=America/Chicago:20270521T124500
DTEND;TZID=America/Chicago:20270521T131500
DTSTAMP:20260422T020850
CREATED:20250602T214012Z
LAST-MODIFIED:20250603T190811Z
UID:10153169-1810903500-1810905300@spacecenter.org
SUMMARY:Artemis Live Presentation
DESCRIPTION:
URL:https://spacecenter.org/events-calendar-event/artemis-live-presentation-2/2027-05-21/
LOCATION:Theater – Destiny
CATEGORIES:Live Presentation
ATTACH;FMTTYPE=image/jpeg:https://spacecenter.org/wp-content/uploads/2022/10/Artemis-Capsule.jpeg
END:VEVENT
BEGIN:VEVENT
DTSTART;TZID=America/Chicago:20270521T131500
DTEND;TZID=America/Chicago:20270521T133000
DTSTAMP:20260422T020850
CREATED:20250602T213201Z
LAST-MODIFIED:20250603T190922Z
UID:10160481-1810905300-1810906200@spacecenter.org
SUMMARY:Story Corner Live Presentation
DESCRIPTION:
URL:https://spacecenter.org/events-calendar-event/story-corner-live-presentation-3/2027-05-21/
LOCATION:Theater – Artemis
CATEGORIES:Live Presentation
END:VEVENT
BEGIN:VEVENT
DTSTART;TZID=America/Chicago:20270521T134500
DTEND;TZID=America/Chicago:20270521T140000
DTSTAMP:20260422T020850
CREATED:20250602T212635Z
LAST-MODIFIED:20250603T191121Z
UID:10171449-1810907100-1810908000@spacecenter.org
SUMMARY:OSIRIS Rex Live Presentation
DESCRIPTION:
URL:https://spacecenter.org/events-calendar-event/osiris-rex-live-presentation-2/2027-05-21/
LOCATION:Mission Sketch Staircase
CATEGORIES:Live Presentation
ATTACH;FMTTYPE=image/jpeg:https://spacecenter.org/wp-content/uploads/2024/03/web-march2024_tls_osirisrex.jpg
END:VEVENT
END:VCALENDAR