BEGIN:VCALENDAR
VERSION:2.0
PRODID:-//Space Center Houston - ECPv6.15.15//NONSGML v1.0//EN
CALSCALE:GREGORIAN
METHOD:PUBLISH
X-WR-CALNAME:Space Center Houston
X-ORIGINAL-URL:https://spacecenter.org
X-WR-CALDESC:Events for Space Center Houston
REFRESH-INTERVAL;VALUE=DURATION:PT1H
X-Robots-Tag:noindex
X-PUBLISHED-TTL:PT1H
BEGIN:VTIMEZONE
TZID:America/Chicago
BEGIN:DAYLIGHT
TZOFFSETFROM:-0600
TZOFFSETTO:-0500
TZNAME:CDT
DTSTART:20250309T080000
END:DAYLIGHT
BEGIN:STANDARD
TZOFFSETFROM:-0500
TZOFFSETTO:-0600
TZNAME:CST
DTSTART:20251102T070000
END:STANDARD
BEGIN:DAYLIGHT
TZOFFSETFROM:-0600
TZOFFSETTO:-0500
TZNAME:CDT
DTSTART:20260308T080000
END:DAYLIGHT
BEGIN:STANDARD
TZOFFSETFROM:-0500
TZOFFSETTO:-0600
TZNAME:CST
DTSTART:20261101T070000
END:STANDARD
BEGIN:DAYLIGHT
TZOFFSETFROM:-0600
TZOFFSETTO:-0500
TZNAME:CDT
DTSTART:20270314T080000
END:DAYLIGHT
BEGIN:STANDARD
TZOFFSETFROM:-0500
TZOFFSETTO:-0600
TZNAME:CST
DTSTART:20271107T070000
END:STANDARD
END:VTIMEZONE
BEGIN:VEVENT
DTSTART;TZID=America/Chicago:20260810T131500
DTEND;TZID=America/Chicago:20260810T133000
DTSTAMP:20260420T023345
CREATED:20250602T213201Z
LAST-MODIFIED:20250603T190922Z
UID:10160197-1786367700-1786368600@spacecenter.org
SUMMARY:Story Corner Live Presentation
DESCRIPTION:
URL:https://spacecenter.org/events-calendar-event/story-corner-live-presentation-3/2026-08-10/
LOCATION:Theater – Artemis
CATEGORIES:Live Presentation
END:VEVENT
BEGIN:VEVENT
DTSTART;TZID=America/Chicago:20260810T134500
DTEND;TZID=America/Chicago:20260810T140000
DTSTAMP:20260420T023345
CREATED:20250602T212635Z
LAST-MODIFIED:20250603T191121Z
UID:10171165-1786369500-1786370400@spacecenter.org
SUMMARY:OSIRIS Rex Live Presentation
DESCRIPTION:
URL:https://spacecenter.org/events-calendar-event/osiris-rex-live-presentation-2/2026-08-10/
LOCATION:Mission Sketch Staircase
CATEGORIES:Live Presentation
ATTACH;FMTTYPE=image/jpeg:https://spacecenter.org/wp-content/uploads/2024/03/web-march2024_tls_osirisrex.jpg
END:VEVENT
BEGIN:VEVENT
DTSTART;TZID=America/Chicago:20260810T134500
DTEND;TZID=America/Chicago:20260810T140000
DTSTAMP:20260420T023345
CREATED:20250602T213557Z
LAST-MODIFIED:20250603T191327Z
UID:10174821-1786369500-1786370400@spacecenter.org
SUMMARY:James Webb Live Presentation
DESCRIPTION:
URL:https://spacecenter.org/events-calendar-event/james-webb-live-presentation-2/2026-08-10/
LOCATION:Theater – Destiny
CATEGORIES:Live Presentation
END:VEVENT
BEGIN:VEVENT
DTSTART;TZID=America/Chicago:20260810T144500
DTEND;TZID=America/Chicago:20260810T150000
DTSTAMP:20260420T023345
CREATED:20250602T213716Z
LAST-MODIFIED:20250603T191759Z
UID:10189445-1786373100-1786374000@spacecenter.org
SUMMARY:James Webb Live Presentation
DESCRIPTION:
URL:https://spacecenter.org/events-calendar-event/james-webb-live-presentation-3/2026-08-10/
LOCATION:Theater – Destiny
CATEGORIES:Live Presentation
END:VEVENT
BEGIN:VEVENT
DTSTART;TZID=America/Chicago:20260810T151500
DTEND;TZID=America/Chicago:20260810T153000
DTSTAMP:20260420T023345
CREATED:20250602T213249Z
LAST-MODIFIED:20250603T191942Z
UID:10196757-1786374900-1786375800@spacecenter.org
SUMMARY:Story Corner Live Presentation
DESCRIPTION:
URL:https://spacecenter.org/events-calendar-event/story-corner-live-presentation-4/2026-08-10/
LOCATION:Theater – Artemis
CATEGORIES:Live Presentation
END:VEVENT
BEGIN:VEVENT
DTSTART;TZID=America/Chicago:20260810T154500
DTEND;TZID=America/Chicago:20260810T161500
DTSTAMP:20260420T023345
CREATED:20250602T214125Z
LAST-MODIFIED:20250603T192119Z
UID:10207725-1786376700-1786378500@spacecenter.org
SUMMARY:Artemis Live Presentation
DESCRIPTION:
URL:https://spacecenter.org/events-calendar-event/artemis-live-presentation-3/2026-08-10/
LOCATION:Theater – Destiny
CATEGORIES:Live Presentation
ATTACH;FMTTYPE=image/jpeg:https://spacecenter.org/wp-content/uploads/2022/10/Artemis-Capsule.jpeg
END:VEVENT
BEGIN:VEVENT
DTSTART;TZID=America/Chicago:20260810T163000
DTEND;TZID=America/Chicago:20260810T164500
DTSTAMP:20260420T023345
CREATED:20250602T212726Z
LAST-MODIFIED:20250603T192225Z
UID:10215037-1786379400-1786380300@spacecenter.org
SUMMARY:OSIRIS Rex Live Presentation
DESCRIPTION:
URL:https://spacecenter.org/events-calendar-event/osiris-rex-live-presentation-3/2026-08-10/
LOCATION:Mission Sketch Staircase
CATEGORIES:Live Presentation
ATTACH;FMTTYPE=image/jpeg:https://spacecenter.org/wp-content/uploads/2024/03/web-march2024_tls_osirisrex.jpg
END:VEVENT
BEGIN:VEVENT
DTSTART;TZID=America/Chicago:20260811T104500
DTEND;TZID=America/Chicago:20260811T110000
DTSTAMP:20260420T023345
CREATED:20250602T212526Z
LAST-MODIFIED:20250603T185502Z
UID:10101702-1786445100-1786446000@spacecenter.org
SUMMARY:OSIRIS Rex Live Presentation
DESCRIPTION:
URL:https://spacecenter.org/events-calendar-event/osiris-rex-live-presentation/2026-08-11/
LOCATION:Mission Sketch Staircase
CATEGORIES:Live Presentation
ATTACH;FMTTYPE=image/jpeg:https://spacecenter.org/wp-content/uploads/2024/03/web-march2024_tls_osirisrex.jpg
END:VEVENT
BEGIN:VEVENT
DTSTART;TZID=America/Chicago:20260811T104500
DTEND;TZID=America/Chicago:20260811T111500
DTSTAMP:20260420T023345
CREATED:20250602T213905Z
LAST-MODIFIED:20250603T185637Z
UID:10109014-1786445100-1786446900@spacecenter.org
SUMMARY:Artemis Live Presentation
DESCRIPTION:
URL:https://spacecenter.org/events-calendar-event/artemis-live-presentation/2026-08-11/
LOCATION:Theater – Destiny
CATEGORIES:Live Presentation
ATTACH;FMTTYPE=image/jpeg:https://spacecenter.org/wp-content/uploads/2022/10/Artemis-Capsule.jpeg
END:VEVENT
BEGIN:VEVENT
DTSTART;TZID=America/Chicago:20260811T111500
DTEND;TZID=America/Chicago:20260811T113000
DTSTAMP:20260420T023345
CREATED:20250602T213010Z
LAST-MODIFIED:20250603T185901Z
UID:10119982-1786446900-1786447800@spacecenter.org
SUMMARY:Story Corner Live Presentation
DESCRIPTION:
URL:https://spacecenter.org/events-calendar-event/story-corner-live-presentation/2026-08-11/
LOCATION:Theater – Artemis
CATEGORIES:Live Presentation
END:VEVENT
BEGIN:VEVENT
DTSTART;TZID=America/Chicago:20260811T114500
DTEND;TZID=America/Chicago:20260811T120000
DTSTAMP:20260420T023345
CREATED:20250602T213503Z
LAST-MODIFIED:20250603T190256Z
UID:10138262-1786448700-1786449600@spacecenter.org
SUMMARY:James Webb Live Presentation
DESCRIPTION:
URL:https://spacecenter.org/events-calendar-event/james-webb-live-presentation/2026-08-11/
LOCATION:Theater – Destiny
CATEGORIES:Live Presentation
END:VEVENT
BEGIN:VEVENT
DTSTART;TZID=America/Chicago:20260811T121500
DTEND;TZID=America/Chicago:20260811T123000
DTSTAMP:20260420T023345
CREATED:20250602T213059Z
LAST-MODIFIED:20250603T190345Z
UID:10141918-1786450500-1786451400@spacecenter.org
SUMMARY:Story Corner Live Presentation
DESCRIPTION:
URL:https://spacecenter.org/events-calendar-event/story-corner-live-presentation-2/2026-08-11/
LOCATION:Theater – Artemis
CATEGORIES:Live Presentation
END:VEVENT
BEGIN:VEVENT
DTSTART;TZID=America/Chicago:20260811T124500
DTEND;TZID=America/Chicago:20260811T131500
DTSTAMP:20260420T023345
CREATED:20250602T214012Z
LAST-MODIFIED:20250603T190811Z
UID:10152886-1786452300-1786454100@spacecenter.org
SUMMARY:Artemis Live Presentation
DESCRIPTION:
URL:https://spacecenter.org/events-calendar-event/artemis-live-presentation-2/2026-08-11/
LOCATION:Theater – Destiny
CATEGORIES:Live Presentation
ATTACH;FMTTYPE=image/jpeg:https://spacecenter.org/wp-content/uploads/2022/10/Artemis-Capsule.jpeg
END:VEVENT
BEGIN:VEVENT
DTSTART;TZID=America/Chicago:20260811T131500
DTEND;TZID=America/Chicago:20260811T133000
DTSTAMP:20260420T023345
CREATED:20250602T213201Z
LAST-MODIFIED:20250603T190922Z
UID:10160198-1786454100-1786455000@spacecenter.org
SUMMARY:Story Corner Live Presentation
DESCRIPTION:
URL:https://spacecenter.org/events-calendar-event/story-corner-live-presentation-3/2026-08-11/
LOCATION:Theater – Artemis
CATEGORIES:Live Presentation
END:VEVENT
BEGIN:VEVENT
DTSTART;TZID=America/Chicago:20260811T134500
DTEND;TZID=America/Chicago:20260811T140000
DTSTAMP:20260420T023345
CREATED:20250602T212635Z
LAST-MODIFIED:20250603T191121Z
UID:10171166-1786455900-1786456800@spacecenter.org
SUMMARY:OSIRIS Rex Live Presentation
DESCRIPTION:
URL:https://spacecenter.org/events-calendar-event/osiris-rex-live-presentation-2/2026-08-11/
LOCATION:Mission Sketch Staircase
CATEGORIES:Live Presentation
ATTACH;FMTTYPE=image/jpeg:https://spacecenter.org/wp-content/uploads/2024/03/web-march2024_tls_osirisrex.jpg
END:VEVENT
BEGIN:VEVENT
DTSTART;TZID=America/Chicago:20260811T134500
DTEND;TZID=America/Chicago:20260811T140000
DTSTAMP:20260420T023345
CREATED:20250602T213557Z
LAST-MODIFIED:20250603T191327Z
UID:10174822-1786455900-1786456800@spacecenter.org
SUMMARY:James Webb Live Presentation
DESCRIPTION:
URL:https://spacecenter.org/events-calendar-event/james-webb-live-presentation-2/2026-08-11/
LOCATION:Theater – Destiny
CATEGORIES:Live Presentation
END:VEVENT
BEGIN:VEVENT
DTSTART;TZID=America/Chicago:20260811T144500
DTEND;TZID=America/Chicago:20260811T150000
DTSTAMP:20260420T023345
CREATED:20250602T213716Z
LAST-MODIFIED:20250603T191759Z
UID:10189446-1786459500-1786460400@spacecenter.org
SUMMARY:James Webb Live Presentation
DESCRIPTION:
URL:https://spacecenter.org/events-calendar-event/james-webb-live-presentation-3/2026-08-11/
LOCATION:Theater – Destiny
CATEGORIES:Live Presentation
END:VEVENT
BEGIN:VEVENT
DTSTART;TZID=America/Chicago:20260811T151500
DTEND;TZID=America/Chicago:20260811T153000
DTSTAMP:20260420T023346
CREATED:20250602T213249Z
LAST-MODIFIED:20250603T191942Z
UID:10196758-1786461300-1786462200@spacecenter.org
SUMMARY:Story Corner Live Presentation
DESCRIPTION:
URL:https://spacecenter.org/events-calendar-event/story-corner-live-presentation-4/2026-08-11/
LOCATION:Theater – Artemis
CATEGORIES:Live Presentation
END:VEVENT
BEGIN:VEVENT
DTSTART;TZID=America/Chicago:20260811T154500
DTEND;TZID=America/Chicago:20260811T161500
DTSTAMP:20260420T023346
CREATED:20250602T214125Z
LAST-MODIFIED:20250603T192119Z
UID:10207726-1786463100-1786464900@spacecenter.org
SUMMARY:Artemis Live Presentation
DESCRIPTION:
URL:https://spacecenter.org/events-calendar-event/artemis-live-presentation-3/2026-08-11/
LOCATION:Theater – Destiny
CATEGORIES:Live Presentation
ATTACH;FMTTYPE=image/jpeg:https://spacecenter.org/wp-content/uploads/2022/10/Artemis-Capsule.jpeg
END:VEVENT
BEGIN:VEVENT
DTSTART;TZID=America/Chicago:20260811T163000
DTEND;TZID=America/Chicago:20260811T164500
DTSTAMP:20260420T023346
CREATED:20250602T212726Z
LAST-MODIFIED:20250603T192225Z
UID:10215038-1786465800-1786466700@spacecenter.org
SUMMARY:OSIRIS Rex Live Presentation
DESCRIPTION:
URL:https://spacecenter.org/events-calendar-event/osiris-rex-live-presentation-3/2026-08-11/
LOCATION:Mission Sketch Staircase
CATEGORIES:Live Presentation
ATTACH;FMTTYPE=image/jpeg:https://spacecenter.org/wp-content/uploads/2024/03/web-march2024_tls_osirisrex.jpg
END:VEVENT
BEGIN:VEVENT
DTSTART;TZID=America/Chicago:20260812T104500
DTEND;TZID=America/Chicago:20260812T110000
DTSTAMP:20260420T023346
CREATED:20250602T212526Z
LAST-MODIFIED:20250603T185502Z
UID:10101703-1786531500-1786532400@spacecenter.org
SUMMARY:OSIRIS Rex Live Presentation
DESCRIPTION:
URL:https://spacecenter.org/events-calendar-event/osiris-rex-live-presentation/2026-08-12/
LOCATION:Mission Sketch Staircase
CATEGORIES:Live Presentation
ATTACH;FMTTYPE=image/jpeg:https://spacecenter.org/wp-content/uploads/2024/03/web-march2024_tls_osirisrex.jpg
END:VEVENT
BEGIN:VEVENT
DTSTART;TZID=America/Chicago:20260812T104500
DTEND;TZID=America/Chicago:20260812T111500
DTSTAMP:20260420T023346
CREATED:20250602T213905Z
LAST-MODIFIED:20250603T185637Z
UID:10109015-1786531500-1786533300@spacecenter.org
SUMMARY:Artemis Live Presentation
DESCRIPTION:
URL:https://spacecenter.org/events-calendar-event/artemis-live-presentation/2026-08-12/
LOCATION:Theater – Destiny
CATEGORIES:Live Presentation
ATTACH;FMTTYPE=image/jpeg:https://spacecenter.org/wp-content/uploads/2022/10/Artemis-Capsule.jpeg
END:VEVENT
BEGIN:VEVENT
DTSTART;TZID=America/Chicago:20260812T111500
DTEND;TZID=America/Chicago:20260812T113000
DTSTAMP:20260420T023346
CREATED:20250602T213010Z
LAST-MODIFIED:20250603T185901Z
UID:10119983-1786533300-1786534200@spacecenter.org
SUMMARY:Story Corner Live Presentation
DESCRIPTION:
URL:https://spacecenter.org/events-calendar-event/story-corner-live-presentation/2026-08-12/
LOCATION:Theater – Artemis
CATEGORIES:Live Presentation
END:VEVENT
BEGIN:VEVENT
DTSTART;TZID=America/Chicago:20260812T114500
DTEND;TZID=America/Chicago:20260812T120000
DTSTAMP:20260420T023346
CREATED:20250602T213503Z
LAST-MODIFIED:20250603T190256Z
UID:10138263-1786535100-1786536000@spacecenter.org
SUMMARY:James Webb Live Presentation
DESCRIPTION:
URL:https://spacecenter.org/events-calendar-event/james-webb-live-presentation/2026-08-12/
LOCATION:Theater – Destiny
CATEGORIES:Live Presentation
END:VEVENT
BEGIN:VEVENT
DTSTART;TZID=America/Chicago:20260812T121500
DTEND;TZID=America/Chicago:20260812T123000
DTSTAMP:20260420T023346
CREATED:20250602T213059Z
LAST-MODIFIED:20250603T190345Z
UID:10141919-1786536900-1786537800@spacecenter.org
SUMMARY:Story Corner Live Presentation
DESCRIPTION:
URL:https://spacecenter.org/events-calendar-event/story-corner-live-presentation-2/2026-08-12/
LOCATION:Theater – Artemis
CATEGORIES:Live Presentation
END:VEVENT
BEGIN:VEVENT
DTSTART;TZID=America/Chicago:20260812T124500
DTEND;TZID=America/Chicago:20260812T131500
DTSTAMP:20260420T023346
CREATED:20250602T214012Z
LAST-MODIFIED:20250603T190811Z
UID:10152887-1786538700-1786540500@spacecenter.org
SUMMARY:Artemis Live Presentation
DESCRIPTION:
URL:https://spacecenter.org/events-calendar-event/artemis-live-presentation-2/2026-08-12/
LOCATION:Theater – Destiny
CATEGORIES:Live Presentation
ATTACH;FMTTYPE=image/jpeg:https://spacecenter.org/wp-content/uploads/2022/10/Artemis-Capsule.jpeg
END:VEVENT
BEGIN:VEVENT
DTSTART;TZID=America/Chicago:20260812T131500
DTEND;TZID=America/Chicago:20260812T133000
DTSTAMP:20260420T023346
CREATED:20250602T213201Z
LAST-MODIFIED:20250603T190922Z
UID:10160199-1786540500-1786541400@spacecenter.org
SUMMARY:Story Corner Live Presentation
DESCRIPTION:
URL:https://spacecenter.org/events-calendar-event/story-corner-live-presentation-3/2026-08-12/
LOCATION:Theater – Artemis
CATEGORIES:Live Presentation
END:VEVENT
BEGIN:VEVENT
DTSTART;TZID=America/Chicago:20260812T134500
DTEND;TZID=America/Chicago:20260812T140000
DTSTAMP:20260420T023346
CREATED:20250602T212635Z
LAST-MODIFIED:20250603T191121Z
UID:10171167-1786542300-1786543200@spacecenter.org
SUMMARY:OSIRIS Rex Live Presentation
DESCRIPTION:
URL:https://spacecenter.org/events-calendar-event/osiris-rex-live-presentation-2/2026-08-12/
LOCATION:Mission Sketch Staircase
CATEGORIES:Live Presentation
ATTACH;FMTTYPE=image/jpeg:https://spacecenter.org/wp-content/uploads/2024/03/web-march2024_tls_osirisrex.jpg
END:VEVENT
BEGIN:VEVENT
DTSTART;TZID=America/Chicago:20260812T134500
DTEND;TZID=America/Chicago:20260812T140000
DTSTAMP:20260420T023346
CREATED:20250602T213557Z
LAST-MODIFIED:20250603T191327Z
UID:10174823-1786542300-1786543200@spacecenter.org
SUMMARY:James Webb Live Presentation
DESCRIPTION:
URL:https://spacecenter.org/events-calendar-event/james-webb-live-presentation-2/2026-08-12/
LOCATION:Theater – Destiny
CATEGORIES:Live Presentation
END:VEVENT
BEGIN:VEVENT
DTSTART;TZID=America/Chicago:20260812T144500
DTEND;TZID=America/Chicago:20260812T150000
DTSTAMP:20260420T023346
CREATED:20250602T213716Z
LAST-MODIFIED:20250603T191759Z
UID:10189447-1786545900-1786546800@spacecenter.org
SUMMARY:James Webb Live Presentation
DESCRIPTION:
URL:https://spacecenter.org/events-calendar-event/james-webb-live-presentation-3/2026-08-12/
LOCATION:Theater – Destiny
CATEGORIES:Live Presentation
END:VEVENT
END:VCALENDAR