BEGIN:VCALENDAR
VERSION:2.0
PRODID:-//Space Center Houston - ECPv6.15.15//NONSGML v1.0//EN
CALSCALE:GREGORIAN
METHOD:PUBLISH
X-ORIGINAL-URL:https://spacecenter.org
X-WR-CALDESC:Events for Space Center Houston
REFRESH-INTERVAL;VALUE=DURATION:PT1H
X-Robots-Tag:noindex
X-PUBLISHED-TTL:PT1H
BEGIN:VTIMEZONE
TZID:America/Chicago
BEGIN:DAYLIGHT
TZOFFSETFROM:-0600
TZOFFSETTO:-0500
TZNAME:CDT
DTSTART:20250309T080000
END:DAYLIGHT
BEGIN:STANDARD
TZOFFSETFROM:-0500
TZOFFSETTO:-0600
TZNAME:CST
DTSTART:20251102T070000
END:STANDARD
BEGIN:DAYLIGHT
TZOFFSETFROM:-0600
TZOFFSETTO:-0500
TZNAME:CDT
DTSTART:20260308T080000
END:DAYLIGHT
BEGIN:STANDARD
TZOFFSETFROM:-0500
TZOFFSETTO:-0600
TZNAME:CST
DTSTART:20261101T070000
END:STANDARD
BEGIN:DAYLIGHT
TZOFFSETFROM:-0600
TZOFFSETTO:-0500
TZNAME:CDT
DTSTART:20270314T080000
END:DAYLIGHT
BEGIN:STANDARD
TZOFFSETFROM:-0500
TZOFFSETTO:-0600
TZNAME:CST
DTSTART:20271107T070000
END:STANDARD
END:VTIMEZONE
BEGIN:VEVENT
DTSTART;TZID=America/Chicago:20260624T110000
DTEND;TZID=America/Chicago:20260624T114500
DTSTAMP:20260423T130606
CREATED:20250602T210952Z
LAST-MODIFIED:20250603T185820Z
UID:10116278-1782298800-1782301500@spacecenter.org
SUMMARY:Down to Earth: The Astronaut's Perspective Film
DESCRIPTION:
URL:https://spacecenter.org/events-calendar-event/down-to-earth-the-astronauts-perspective-film/2026-06-24/
LOCATION:Mission Briefing Center
CATEGORIES:Film
ATTACH;FMTTYPE=image/jpeg:https://spacecenter.org/wp-content/uploads/2025/02/profdeveducators1.jpg
END:VEVENT
BEGIN:VEVENT
DTSTART;TZID=America/Chicago:20260624T111500
DTEND;TZID=America/Chicago:20260624T113000
DTSTAMP:20260423T130606
CREATED:20250602T214855Z
LAST-MODIFIED:20250603T185944Z
UID:10123590-1782299700-1782300600@spacecenter.org
SUMMARY:Human Destiny Film
DESCRIPTION:
URL:https://spacecenter.org/events-calendar-event/human-destiny-film-5/2026-06-24/
LOCATION:Theater – Destiny
CATEGORIES:Film
ATTACH;FMTTYPE=image/jpeg:https://spacecenter.org/wp-content/uploads/2022/10/Destiny-Theater.jpg
END:VEVENT
BEGIN:VEVENT
DTSTART;TZID=America/Chicago:20260624T113000
DTEND;TZID=America/Chicago:20260624T114500
DTSTAMP:20260423T130606
CREATED:20250602T214945Z
LAST-MODIFIED:20250603T190019Z
UID:10127246-1782300600-1782301500@spacecenter.org
SUMMARY:Human Destiny Film
DESCRIPTION:
URL:https://spacecenter.org/events-calendar-event/human-destiny-film-6/2026-06-24/
LOCATION:Theater – Destiny
CATEGORIES:Film
ATTACH;FMTTYPE=image/jpeg:https://spacecenter.org/wp-content/uploads/2022/10/Destiny-Theater.jpg
END:VEVENT
BEGIN:VEVENT
DTSTART;TZID=America/Chicago:20260624T113000
DTEND;TZID=America/Chicago:20260624T122000
DTSTAMP:20260423T130606
CREATED:20250602T215324Z
LAST-MODIFIED:20250603T190108Z
UID:10130902-1782300600-1782303600@spacecenter.org
SUMMARY:The Moonwalkers: A Journey with Tom Hanks
DESCRIPTION:
URL:https://spacecenter.org/events-calendar-event/the-moonwalkers-a-journey-with-tom-hanks-2/2026-06-24/
LOCATION:Theater – Space Center
CATEGORIES:Film
ATTACH;FMTTYPE=image/png:https://spacecenter.org/wp-content/uploads/2025/03/moonwalkers.png
END:VEVENT
BEGIN:VEVENT
DTSTART;TZID=America/Chicago:20260624T123000
DTEND;TZID=America/Chicago:20260624T132000
DTSTAMP:20260423T130607
CREATED:20250602T215422Z
LAST-MODIFIED:20250603T190647Z
UID:10145526-1782304200-1782307200@spacecenter.org
SUMMARY:The Moonwalkers: A Journey with Tom Hanks
DESCRIPTION:
URL:https://spacecenter.org/events-calendar-event/the-moonwalkers-a-journey-with-tom-hanks-3/2026-06-24/
LOCATION:Theater – Space Center
CATEGORIES:Film
ATTACH;FMTTYPE=image/png:https://spacecenter.org/wp-content/uploads/2025/03/moonwalkers.png
END:VEVENT
BEGIN:VEVENT
DTSTART;TZID=America/Chicago:20260624T130000
DTEND;TZID=America/Chicago:20260624T134500
DTSTAMP:20260423T130607
CREATED:20250602T211211Z
LAST-MODIFIED:20250603T190850Z
UID:10156494-1782306000-1782308700@spacecenter.org
SUMMARY:Down to Earth: The Astronaut's Perspective Film
DESCRIPTION:
URL:https://spacecenter.org/events-calendar-event/down-to-earth-the-astronauts-perspective-film-2/2026-06-24/
LOCATION:Mission Briefing Center
CATEGORIES:Film
ATTACH;FMTTYPE=image/jpeg:https://spacecenter.org/wp-content/uploads/2025/02/profdeveducators1.jpg
END:VEVENT
BEGIN:VEVENT
DTSTART;TZID=America/Chicago:20260624T133000
DTEND;TZID=America/Chicago:20260624T142000
DTSTAMP:20260423T130607
CREATED:20250602T215510Z
LAST-MODIFIED:20250603T190957Z
UID:10163806-1782307800-1782310800@spacecenter.org
SUMMARY:The Moonwalkers: A Journey with Tom Hanks
DESCRIPTION:
URL:https://spacecenter.org/events-calendar-event/the-moonwalkers-a-journey-with-tom-hanks-4/2026-06-24/
LOCATION:Theater – Space Center
CATEGORIES:Film
ATTACH;FMTTYPE=image/png:https://spacecenter.org/wp-content/uploads/2025/03/moonwalkers.png
END:VEVENT
BEGIN:VEVENT
DTSTART;TZID=America/Chicago:20260624T140000
DTEND;TZID=America/Chicago:20260624T144500
DTSTAMP:20260423T130607
CREATED:20250602T211401Z
LAST-MODIFIED:20250603T191451Z
UID:10178430-1782309600-1782312300@spacecenter.org
SUMMARY:Down to Earth: The Astronaut's Perspective Film
DESCRIPTION:
URL:https://spacecenter.org/events-calendar-event/down-to-earth-the-astronauts-perspective-film-3/2026-06-24/
LOCATION:Mission Briefing Center
CATEGORIES:Film
ATTACH;FMTTYPE=image/jpeg:https://spacecenter.org/wp-content/uploads/2025/02/profdeveducators1.jpg
END:VEVENT
BEGIN:VEVENT
DTSTART;TZID=America/Chicago:20260624T143000
DTEND;TZID=America/Chicago:20260624T152000
DTSTAMP:20260423T130607
CREATED:20250602T215601Z
LAST-MODIFIED:20250603T191630Z
UID:10182086-1782311400-1782314400@spacecenter.org
SUMMARY:The Moonwalkers: A Journey with Tom Hanks
DESCRIPTION:
URL:https://spacecenter.org/events-calendar-event/the-moonwalkers-a-journey-with-tom-hanks-5/2026-06-24/
LOCATION:Theater – Space Center
CATEGORIES:Film
ATTACH;FMTTYPE=image/png:https://spacecenter.org/wp-content/uploads/2025/03/moonwalkers.png
END:VEVENT
BEGIN:VEVENT
DTSTART;TZID=America/Chicago:20260624T150000
DTEND;TZID=America/Chicago:20260624T154500
DTSTAMP:20260423T130607
CREATED:20250602T211753Z
LAST-MODIFIED:20250603T191844Z
UID:10193054-1782313200-1782315900@spacecenter.org
SUMMARY:Down to Earth: The Astronaut's Perspective Film
DESCRIPTION:
URL:https://spacecenter.org/events-calendar-event/down-to-earth-the-astronauts-perspective-film-4/2026-06-24/
LOCATION:Mission Briefing Center
CATEGORIES:Film
ATTACH;FMTTYPE=image/jpeg:https://spacecenter.org/wp-content/uploads/2025/02/profdeveducators1.jpg
END:VEVENT
BEGIN:VEVENT
DTSTART;TZID=America/Chicago:20260624T153000
DTEND;TZID=America/Chicago:20260624T162000
DTSTAMP:20260423T130607
CREATED:20250602T215646Z
LAST-MODIFIED:20260115T171957Z
UID:10200366-1782315000-1782318000@spacecenter.org
SUMMARY:The Moonwalkers: A Journey with Tom Hanks
DESCRIPTION:Test description
URL:https://spacecenter.org/events-calendar-event/the-moonwalkers-a-journey-with-tom-hanks-6/2026-06-24/
LOCATION:Theater – Space Center
CATEGORIES:Film
ATTACH;FMTTYPE=image/png:https://spacecenter.org/wp-content/uploads/2025/03/moonwalkers.png
END:VEVENT
BEGIN:VEVENT
DTSTART;TZID=America/Chicago:20260624T160000
DTEND;TZID=America/Chicago:20260624T164500
DTSTAMP:20260423T130607
CREATED:20250602T211841Z
LAST-MODIFIED:20250603T192151Z
UID:10211334-1782316800-1782319500@spacecenter.org
SUMMARY:Down to Earth: The Astronaut's Perspective Film
DESCRIPTION:
URL:https://spacecenter.org/events-calendar-event/down-to-earth-the-astronauts-perspective-film-5/2026-06-24/
LOCATION:Mission Briefing Center
CATEGORIES:Film
ATTACH;FMTTYPE=image/jpeg:https://spacecenter.org/wp-content/uploads/2025/02/profdeveducators1.jpg
END:VEVENT
BEGIN:VEVENT
DTSTART;TZID=America/Chicago:20260625T101500
DTEND;TZID=America/Chicago:20260625T103000
DTSTAMP:20260423T130607
CREATED:20250602T214310Z
LAST-MODIFIED:20250603T184018Z
UID:10083375-1782382500-1782383400@spacecenter.org
SUMMARY:Human Destiny Film
DESCRIPTION:
URL:https://spacecenter.org/events-calendar-event/human-destiny-film/2026-06-25/
LOCATION:Theater – Destiny
CATEGORIES:Film
ATTACH;FMTTYPE=image/jpeg:https://spacecenter.org/wp-content/uploads/2022/10/Destiny-Theater.jpg
END:VEVENT
BEGIN:VEVENT
DTSTART;TZID=America/Chicago:20260625T103000
DTEND;TZID=America/Chicago:20260625T104500
DTSTAMP:20260423T130607
CREATED:20250602T214417Z
LAST-MODIFIED:20250603T184348Z
UID:10087031-1782383400-1782384300@spacecenter.org
SUMMARY:Human Destiny Film
DESCRIPTION:
URL:https://spacecenter.org/events-calendar-event/human-destiny-film-2/2026-06-25/
LOCATION:Theater – Destiny
CATEGORIES:Film
ATTACH;FMTTYPE=image/jpeg:https://spacecenter.org/wp-content/uploads/2022/10/Destiny-Theater.jpg
END:VEVENT
BEGIN:VEVENT
DTSTART;TZID=America/Chicago:20260625T103000
DTEND;TZID=America/Chicago:20260625T112000
DTSTAMP:20260423T130607
CREATED:20250602T215207Z
LAST-MODIFIED:20250603T184552Z
UID:10090687-1782383400-1782386400@spacecenter.org
SUMMARY:The Moonwalkers: A Journey with Tom Hanks
DESCRIPTION:
URL:https://spacecenter.org/events-calendar-event/the-moonwalkers-a-journey-with-tom-hanks/2026-06-25/
LOCATION:Theater – Space Center
CATEGORIES:Film
ATTACH;FMTTYPE=image/png:https://spacecenter.org/wp-content/uploads/2025/03/moonwalkers.png
END:VEVENT
BEGIN:VEVENT
DTSTART;TZID=America/Chicago:20260625T104500
DTEND;TZID=America/Chicago:20260625T110000
DTSTAMP:20260423T130607
CREATED:20250602T214618Z
LAST-MODIFIED:20250603T185541Z
UID:10105311-1782384300-1782385200@spacecenter.org
SUMMARY:Human Destiny Film
DESCRIPTION:
URL:https://spacecenter.org/events-calendar-event/human-destiny-film-3/2026-06-25/
LOCATION:Theater – Destiny
CATEGORIES:Film
ATTACH;FMTTYPE=image/jpeg:https://spacecenter.org/wp-content/uploads/2022/10/Destiny-Theater.jpg
END:VEVENT
BEGIN:VEVENT
DTSTART;TZID=America/Chicago:20260625T110000
DTEND;TZID=America/Chicago:20260625T111500
DTSTAMP:20260423T130607
CREATED:20250602T214802Z
LAST-MODIFIED:20250603T185720Z
UID:10112623-1782385200-1782386100@spacecenter.org
SUMMARY:Human Destiny Film
DESCRIPTION:
URL:https://spacecenter.org/events-calendar-event/human-destiny-film-4/2026-06-25/
LOCATION:Theater – Destiny
CATEGORIES:Film
ATTACH;FMTTYPE=image/jpeg:https://spacecenter.org/wp-content/uploads/2022/10/Destiny-Theater.jpg
END:VEVENT
BEGIN:VEVENT
DTSTART;TZID=America/Chicago:20260625T110000
DTEND;TZID=America/Chicago:20260625T114500
DTSTAMP:20260423T130607
CREATED:20250602T210952Z
LAST-MODIFIED:20250603T185820Z
UID:10116279-1782385200-1782387900@spacecenter.org
SUMMARY:Down to Earth: The Astronaut's Perspective Film
DESCRIPTION:
URL:https://spacecenter.org/events-calendar-event/down-to-earth-the-astronauts-perspective-film/2026-06-25/
LOCATION:Mission Briefing Center
CATEGORIES:Film
ATTACH;FMTTYPE=image/jpeg:https://spacecenter.org/wp-content/uploads/2025/02/profdeveducators1.jpg
END:VEVENT
BEGIN:VEVENT
DTSTART;TZID=America/Chicago:20260625T111500
DTEND;TZID=America/Chicago:20260625T113000
DTSTAMP:20260423T130607
CREATED:20250602T214855Z
LAST-MODIFIED:20250603T185944Z
UID:10123591-1782386100-1782387000@spacecenter.org
SUMMARY:Human Destiny Film
DESCRIPTION:
URL:https://spacecenter.org/events-calendar-event/human-destiny-film-5/2026-06-25/
LOCATION:Theater – Destiny
CATEGORIES:Film
ATTACH;FMTTYPE=image/jpeg:https://spacecenter.org/wp-content/uploads/2022/10/Destiny-Theater.jpg
END:VEVENT
BEGIN:VEVENT
DTSTART;TZID=America/Chicago:20260625T113000
DTEND;TZID=America/Chicago:20260625T114500
DTSTAMP:20260423T130607
CREATED:20250602T214945Z
LAST-MODIFIED:20250603T190019Z
UID:10127247-1782387000-1782387900@spacecenter.org
SUMMARY:Human Destiny Film
DESCRIPTION:
URL:https://spacecenter.org/events-calendar-event/human-destiny-film-6/2026-06-25/
LOCATION:Theater – Destiny
CATEGORIES:Film
ATTACH;FMTTYPE=image/jpeg:https://spacecenter.org/wp-content/uploads/2022/10/Destiny-Theater.jpg
END:VEVENT
BEGIN:VEVENT
DTSTART;TZID=America/Chicago:20260625T113000
DTEND;TZID=America/Chicago:20260625T122000
DTSTAMP:20260423T130607
CREATED:20250602T215324Z
LAST-MODIFIED:20250603T190108Z
UID:10130903-1782387000-1782390000@spacecenter.org
SUMMARY:The Moonwalkers: A Journey with Tom Hanks
DESCRIPTION:
URL:https://spacecenter.org/events-calendar-event/the-moonwalkers-a-journey-with-tom-hanks-2/2026-06-25/
LOCATION:Theater – Space Center
CATEGORIES:Film
ATTACH;FMTTYPE=image/png:https://spacecenter.org/wp-content/uploads/2025/03/moonwalkers.png
END:VEVENT
BEGIN:VEVENT
DTSTART;TZID=America/Chicago:20260625T123000
DTEND;TZID=America/Chicago:20260625T132000
DTSTAMP:20260423T130607
CREATED:20250602T215422Z
LAST-MODIFIED:20250603T190647Z
UID:10145527-1782390600-1782393600@spacecenter.org
SUMMARY:The Moonwalkers: A Journey with Tom Hanks
DESCRIPTION:
URL:https://spacecenter.org/events-calendar-event/the-moonwalkers-a-journey-with-tom-hanks-3/2026-06-25/
LOCATION:Theater – Space Center
CATEGORIES:Film
ATTACH;FMTTYPE=image/png:https://spacecenter.org/wp-content/uploads/2025/03/moonwalkers.png
END:VEVENT
BEGIN:VEVENT
DTSTART;TZID=America/Chicago:20260625T130000
DTEND;TZID=America/Chicago:20260625T134500
DTSTAMP:20260423T130607
CREATED:20250602T211211Z
LAST-MODIFIED:20250603T190850Z
UID:10156495-1782392400-1782395100@spacecenter.org
SUMMARY:Down to Earth: The Astronaut's Perspective Film
DESCRIPTION:
URL:https://spacecenter.org/events-calendar-event/down-to-earth-the-astronauts-perspective-film-2/2026-06-25/
LOCATION:Mission Briefing Center
CATEGORIES:Film
ATTACH;FMTTYPE=image/jpeg:https://spacecenter.org/wp-content/uploads/2025/02/profdeveducators1.jpg
END:VEVENT
BEGIN:VEVENT
DTSTART;TZID=America/Chicago:20260625T133000
DTEND;TZID=America/Chicago:20260625T142000
DTSTAMP:20260423T130607
CREATED:20250602T215510Z
LAST-MODIFIED:20250603T190957Z
UID:10163807-1782394200-1782397200@spacecenter.org
SUMMARY:The Moonwalkers: A Journey with Tom Hanks
DESCRIPTION:
URL:https://spacecenter.org/events-calendar-event/the-moonwalkers-a-journey-with-tom-hanks-4/2026-06-25/
LOCATION:Theater – Space Center
CATEGORIES:Film
ATTACH;FMTTYPE=image/png:https://spacecenter.org/wp-content/uploads/2025/03/moonwalkers.png
END:VEVENT
BEGIN:VEVENT
DTSTART;TZID=America/Chicago:20260625T140000
DTEND;TZID=America/Chicago:20260625T144500
DTSTAMP:20260423T130607
CREATED:20250602T211401Z
LAST-MODIFIED:20250603T191451Z
UID:10178431-1782396000-1782398700@spacecenter.org
SUMMARY:Down to Earth: The Astronaut's Perspective Film
DESCRIPTION:
URL:https://spacecenter.org/events-calendar-event/down-to-earth-the-astronauts-perspective-film-3/2026-06-25/
LOCATION:Mission Briefing Center
CATEGORIES:Film
ATTACH;FMTTYPE=image/jpeg:https://spacecenter.org/wp-content/uploads/2025/02/profdeveducators1.jpg
END:VEVENT
BEGIN:VEVENT
DTSTART;TZID=America/Chicago:20260625T143000
DTEND;TZID=America/Chicago:20260625T152000
DTSTAMP:20260423T130607
CREATED:20250602T215601Z
LAST-MODIFIED:20250603T191630Z
UID:10182087-1782397800-1782400800@spacecenter.org
SUMMARY:The Moonwalkers: A Journey with Tom Hanks
DESCRIPTION:
URL:https://spacecenter.org/events-calendar-event/the-moonwalkers-a-journey-with-tom-hanks-5/2026-06-25/
LOCATION:Theater – Space Center
CATEGORIES:Film
ATTACH;FMTTYPE=image/png:https://spacecenter.org/wp-content/uploads/2025/03/moonwalkers.png
END:VEVENT
BEGIN:VEVENT
DTSTART;TZID=America/Chicago:20260625T150000
DTEND;TZID=America/Chicago:20260625T154500
DTSTAMP:20260423T130607
CREATED:20250602T211753Z
LAST-MODIFIED:20250603T191844Z
UID:10193055-1782399600-1782402300@spacecenter.org
SUMMARY:Down to Earth: The Astronaut's Perspective Film
DESCRIPTION:
URL:https://spacecenter.org/events-calendar-event/down-to-earth-the-astronauts-perspective-film-4/2026-06-25/
LOCATION:Mission Briefing Center
CATEGORIES:Film
ATTACH;FMTTYPE=image/jpeg:https://spacecenter.org/wp-content/uploads/2025/02/profdeveducators1.jpg
END:VEVENT
BEGIN:VEVENT
DTSTART;TZID=America/Chicago:20260625T153000
DTEND;TZID=America/Chicago:20260625T162000
DTSTAMP:20260423T130607
CREATED:20250602T215646Z
LAST-MODIFIED:20260115T171957Z
UID:10200367-1782401400-1782404400@spacecenter.org
SUMMARY:The Moonwalkers: A Journey with Tom Hanks
DESCRIPTION:Test description
URL:https://spacecenter.org/events-calendar-event/the-moonwalkers-a-journey-with-tom-hanks-6/2026-06-25/
LOCATION:Theater – Space Center
CATEGORIES:Film
ATTACH;FMTTYPE=image/png:https://spacecenter.org/wp-content/uploads/2025/03/moonwalkers.png
END:VEVENT
BEGIN:VEVENT
DTSTART;TZID=America/Chicago:20260625T160000
DTEND;TZID=America/Chicago:20260625T164500
DTSTAMP:20260423T130607
CREATED:20250602T211841Z
LAST-MODIFIED:20250603T192151Z
UID:10211335-1782403200-1782405900@spacecenter.org
SUMMARY:Down to Earth: The Astronaut's Perspective Film
DESCRIPTION:
URL:https://spacecenter.org/events-calendar-event/down-to-earth-the-astronauts-perspective-film-5/2026-06-25/
LOCATION:Mission Briefing Center
CATEGORIES:Film
ATTACH;FMTTYPE=image/jpeg:https://spacecenter.org/wp-content/uploads/2025/02/profdeveducators1.jpg
END:VEVENT
BEGIN:VEVENT
DTSTART;TZID=America/Chicago:20260626T101500
DTEND;TZID=America/Chicago:20260626T103000
DTSTAMP:20260423T130607
CREATED:20250602T214310Z
LAST-MODIFIED:20250603T184018Z
UID:10083376-1782468900-1782469800@spacecenter.org
SUMMARY:Human Destiny Film
DESCRIPTION:
URL:https://spacecenter.org/events-calendar-event/human-destiny-film/2026-06-26/
LOCATION:Theater – Destiny
CATEGORIES:Film
ATTACH;FMTTYPE=image/jpeg:https://spacecenter.org/wp-content/uploads/2022/10/Destiny-Theater.jpg
END:VEVENT
END:VCALENDAR