BEGIN:VCALENDAR
VERSION:2.0
PRODID:-//Space Center Houston - ECPv6.15.15//NONSGML v1.0//EN
CALSCALE:GREGORIAN
METHOD:PUBLISH
X-WR-CALNAME:Space Center Houston
X-ORIGINAL-URL:https://spacecenter.org
X-WR-CALDESC:Events for Space Center Houston
REFRESH-INTERVAL;VALUE=DURATION:PT1H
X-Robots-Tag:noindex
X-PUBLISHED-TTL:PT1H
BEGIN:VTIMEZONE
TZID:America/Chicago
BEGIN:DAYLIGHT
TZOFFSETFROM:-0600
TZOFFSETTO:-0500
TZNAME:CDT
DTSTART:20240310T080000
END:DAYLIGHT
BEGIN:STANDARD
TZOFFSETFROM:-0500
TZOFFSETTO:-0600
TZNAME:CST
DTSTART:20241103T070000
END:STANDARD
BEGIN:DAYLIGHT
TZOFFSETFROM:-0600
TZOFFSETTO:-0500
TZNAME:CDT
DTSTART:20250309T080000
END:DAYLIGHT
BEGIN:STANDARD
TZOFFSETFROM:-0500
TZOFFSETTO:-0600
TZNAME:CST
DTSTART:20251102T070000
END:STANDARD
BEGIN:DAYLIGHT
TZOFFSETFROM:-0600
TZOFFSETTO:-0500
TZNAME:CDT
DTSTART:20260308T080000
END:DAYLIGHT
BEGIN:STANDARD
TZOFFSETFROM:-0500
TZOFFSETTO:-0600
TZNAME:CST
DTSTART:20261101T070000
END:STANDARD
END:VTIMEZONE
BEGIN:VEVENT
DTSTART;TZID=America/Chicago:20250618T101500
DTEND;TZID=America/Chicago:20250618T103000
DTSTAMP:20260425T065726
CREATED:20250602T214310Z
LAST-MODIFIED:20250603T184018Z
UID:10083003-1750241700-1750242600@spacecenter.org
SUMMARY:Human Destiny Film
DESCRIPTION:
URL:https://spacecenter.org/events-calendar-event/human-destiny-film/2025-06-18/
LOCATION:Theater – Destiny
CATEGORIES:Film
ATTACH;FMTTYPE=image/jpeg:https://spacecenter.org/wp-content/uploads/2022/10/Destiny-Theater.jpg
END:VEVENT
BEGIN:VEVENT
DTSTART;TZID=America/Chicago:20250618T103000
DTEND;TZID=America/Chicago:20250618T104500
DTSTAMP:20260425T065726
CREATED:20250602T214417Z
LAST-MODIFIED:20250603T184348Z
UID:10086659-1750242600-1750243500@spacecenter.org
SUMMARY:Human Destiny Film
DESCRIPTION:
URL:https://spacecenter.org/events-calendar-event/human-destiny-film-2/2025-06-18/
LOCATION:Theater – Destiny
CATEGORIES:Film
ATTACH;FMTTYPE=image/jpeg:https://spacecenter.org/wp-content/uploads/2022/10/Destiny-Theater.jpg
END:VEVENT
BEGIN:VEVENT
DTSTART;TZID=America/Chicago:20250618T103000
DTEND;TZID=America/Chicago:20250618T112000
DTSTAMP:20260425T065726
CREATED:20250602T215207Z
LAST-MODIFIED:20250603T184552Z
UID:10090315-1750242600-1750245600@spacecenter.org
SUMMARY:The Moonwalkers: A Journey with Tom Hanks
DESCRIPTION:
URL:https://spacecenter.org/events-calendar-event/the-moonwalkers-a-journey-with-tom-hanks/2025-06-18/
LOCATION:Theater – Space Center
CATEGORIES:Film
ATTACH;FMTTYPE=image/png:https://spacecenter.org/wp-content/uploads/2025/03/moonwalkers.png
END:VEVENT
BEGIN:VEVENT
DTSTART;TZID=America/Chicago:20250618T104500
DTEND;TZID=America/Chicago:20250618T110000
DTSTAMP:20260425T065726
CREATED:20250602T214618Z
LAST-MODIFIED:20250603T185541Z
UID:10104939-1750243500-1750244400@spacecenter.org
SUMMARY:Human Destiny Film
DESCRIPTION:
URL:https://spacecenter.org/events-calendar-event/human-destiny-film-3/2025-06-18/
LOCATION:Theater – Destiny
CATEGORIES:Film
ATTACH;FMTTYPE=image/jpeg:https://spacecenter.org/wp-content/uploads/2022/10/Destiny-Theater.jpg
END:VEVENT
BEGIN:VEVENT
DTSTART;TZID=America/Chicago:20250618T110000
DTEND;TZID=America/Chicago:20250618T111500
DTSTAMP:20260425T065726
CREATED:20250602T214802Z
LAST-MODIFIED:20250603T185720Z
UID:10112251-1750244400-1750245300@spacecenter.org
SUMMARY:Human Destiny Film
DESCRIPTION:
URL:https://spacecenter.org/events-calendar-event/human-destiny-film-4/2025-06-18/
LOCATION:Theater – Destiny
CATEGORIES:Film
ATTACH;FMTTYPE=image/jpeg:https://spacecenter.org/wp-content/uploads/2022/10/Destiny-Theater.jpg
END:VEVENT
BEGIN:VEVENT
DTSTART;TZID=America/Chicago:20250618T110000
DTEND;TZID=America/Chicago:20250618T114500
DTSTAMP:20260425T065726
CREATED:20250602T210952Z
LAST-MODIFIED:20250603T185820Z
UID:10115907-1750244400-1750247100@spacecenter.org
SUMMARY:Down to Earth: The Astronaut's Perspective Film
DESCRIPTION:
URL:https://spacecenter.org/events-calendar-event/down-to-earth-the-astronauts-perspective-film/2025-06-18/
LOCATION:Mission Briefing Center
CATEGORIES:Film
ATTACH;FMTTYPE=image/jpeg:https://spacecenter.org/wp-content/uploads/2025/02/profdeveducators1.jpg
END:VEVENT
BEGIN:VEVENT
DTSTART;TZID=America/Chicago:20250618T111500
DTEND;TZID=America/Chicago:20250618T113000
DTSTAMP:20260425T065726
CREATED:20250602T214855Z
LAST-MODIFIED:20250603T185944Z
UID:10123219-1750245300-1750246200@spacecenter.org
SUMMARY:Human Destiny Film
DESCRIPTION:
URL:https://spacecenter.org/events-calendar-event/human-destiny-film-5/2025-06-18/
LOCATION:Theater – Destiny
CATEGORIES:Film
ATTACH;FMTTYPE=image/jpeg:https://spacecenter.org/wp-content/uploads/2022/10/Destiny-Theater.jpg
END:VEVENT
BEGIN:VEVENT
DTSTART;TZID=America/Chicago:20250618T113000
DTEND;TZID=America/Chicago:20250618T114500
DTSTAMP:20260425T065726
CREATED:20250602T214945Z
LAST-MODIFIED:20250603T190019Z
UID:10126875-1750246200-1750247100@spacecenter.org
SUMMARY:Human Destiny Film
DESCRIPTION:
URL:https://spacecenter.org/events-calendar-event/human-destiny-film-6/2025-06-18/
LOCATION:Theater – Destiny
CATEGORIES:Film
ATTACH;FMTTYPE=image/jpeg:https://spacecenter.org/wp-content/uploads/2022/10/Destiny-Theater.jpg
END:VEVENT
BEGIN:VEVENT
DTSTART;TZID=America/Chicago:20250618T113000
DTEND;TZID=America/Chicago:20250618T122000
DTSTAMP:20260425T065726
CREATED:20250602T215324Z
LAST-MODIFIED:20250603T190108Z
UID:10130531-1750246200-1750249200@spacecenter.org
SUMMARY:The Moonwalkers: A Journey with Tom Hanks
DESCRIPTION:
URL:https://spacecenter.org/events-calendar-event/the-moonwalkers-a-journey-with-tom-hanks-2/2025-06-18/
LOCATION:Theater – Space Center
CATEGORIES:Film
ATTACH;FMTTYPE=image/png:https://spacecenter.org/wp-content/uploads/2025/03/moonwalkers.png
END:VEVENT
BEGIN:VEVENT
DTSTART;TZID=America/Chicago:20250618T123000
DTEND;TZID=America/Chicago:20250618T132000
DTSTAMP:20260425T065726
CREATED:20250602T215422Z
LAST-MODIFIED:20250603T190647Z
UID:10145155-1750249800-1750252800@spacecenter.org
SUMMARY:The Moonwalkers: A Journey with Tom Hanks
DESCRIPTION:
URL:https://spacecenter.org/events-calendar-event/the-moonwalkers-a-journey-with-tom-hanks-3/2025-06-18/
LOCATION:Theater – Space Center
CATEGORIES:Film
ATTACH;FMTTYPE=image/png:https://spacecenter.org/wp-content/uploads/2025/03/moonwalkers.png
END:VEVENT
BEGIN:VEVENT
DTSTART;TZID=America/Chicago:20250618T130000
DTEND;TZID=America/Chicago:20250618T134500
DTSTAMP:20260425T065726
CREATED:20250602T211211Z
LAST-MODIFIED:20250603T190850Z
UID:10156123-1750251600-1750254300@spacecenter.org
SUMMARY:Down to Earth: The Astronaut's Perspective Film
DESCRIPTION:
URL:https://spacecenter.org/events-calendar-event/down-to-earth-the-astronauts-perspective-film-2/2025-06-18/
LOCATION:Mission Briefing Center
CATEGORIES:Film
ATTACH;FMTTYPE=image/jpeg:https://spacecenter.org/wp-content/uploads/2025/02/profdeveducators1.jpg
END:VEVENT
BEGIN:VEVENT
DTSTART;TZID=America/Chicago:20250618T133000
DTEND;TZID=America/Chicago:20250618T142000
DTSTAMP:20260425T065726
CREATED:20250602T215510Z
LAST-MODIFIED:20250603T190957Z
UID:10163435-1750253400-1750256400@spacecenter.org
SUMMARY:The Moonwalkers: A Journey with Tom Hanks
DESCRIPTION:
URL:https://spacecenter.org/events-calendar-event/the-moonwalkers-a-journey-with-tom-hanks-4/2025-06-18/
LOCATION:Theater – Space Center
CATEGORIES:Film
ATTACH;FMTTYPE=image/png:https://spacecenter.org/wp-content/uploads/2025/03/moonwalkers.png
END:VEVENT
BEGIN:VEVENT
DTSTART;TZID=America/Chicago:20250618T140000
DTEND;TZID=America/Chicago:20250618T144500
DTSTAMP:20260425T065726
CREATED:20250602T211401Z
LAST-MODIFIED:20250603T191451Z
UID:10178059-1750255200-1750257900@spacecenter.org
SUMMARY:Down to Earth: The Astronaut's Perspective Film
DESCRIPTION:
URL:https://spacecenter.org/events-calendar-event/down-to-earth-the-astronauts-perspective-film-3/2025-06-18/
LOCATION:Mission Briefing Center
CATEGORIES:Film
ATTACH;FMTTYPE=image/jpeg:https://spacecenter.org/wp-content/uploads/2025/02/profdeveducators1.jpg
END:VEVENT
BEGIN:VEVENT
DTSTART;TZID=America/Chicago:20250618T143000
DTEND;TZID=America/Chicago:20250618T152000
DTSTAMP:20260425T065726
CREATED:20250602T215601Z
LAST-MODIFIED:20250603T191630Z
UID:10181715-1750257000-1750260000@spacecenter.org
SUMMARY:The Moonwalkers: A Journey with Tom Hanks
DESCRIPTION:
URL:https://spacecenter.org/events-calendar-event/the-moonwalkers-a-journey-with-tom-hanks-5/2025-06-18/
LOCATION:Theater – Space Center
CATEGORIES:Film
ATTACH;FMTTYPE=image/png:https://spacecenter.org/wp-content/uploads/2025/03/moonwalkers.png
END:VEVENT
BEGIN:VEVENT
DTSTART;TZID=America/Chicago:20250618T150000
DTEND;TZID=America/Chicago:20250618T154500
DTSTAMP:20260425T065726
CREATED:20250602T211753Z
LAST-MODIFIED:20250603T191844Z
UID:10192683-1750258800-1750261500@spacecenter.org
SUMMARY:Down to Earth: The Astronaut's Perspective Film
DESCRIPTION:
URL:https://spacecenter.org/events-calendar-event/down-to-earth-the-astronauts-perspective-film-4/2025-06-18/
LOCATION:Mission Briefing Center
CATEGORIES:Film
ATTACH;FMTTYPE=image/jpeg:https://spacecenter.org/wp-content/uploads/2025/02/profdeveducators1.jpg
END:VEVENT
BEGIN:VEVENT
DTSTART;TZID=America/Chicago:20250618T153000
DTEND;TZID=America/Chicago:20250618T162000
DTSTAMP:20260425T065726
CREATED:20250602T215646Z
LAST-MODIFIED:20260115T171957Z
UID:10199995-1750260600-1750263600@spacecenter.org
SUMMARY:The Moonwalkers: A Journey with Tom Hanks
DESCRIPTION:Test description
URL:https://spacecenter.org/events-calendar-event/the-moonwalkers-a-journey-with-tom-hanks-6/2025-06-18/
LOCATION:Theater – Space Center
CATEGORIES:Film
ATTACH;FMTTYPE=image/png:https://spacecenter.org/wp-content/uploads/2025/03/moonwalkers.png
END:VEVENT
BEGIN:VEVENT
DTSTART;TZID=America/Chicago:20250618T160000
DTEND;TZID=America/Chicago:20250618T164500
DTSTAMP:20260425T065726
CREATED:20250602T211841Z
LAST-MODIFIED:20250603T192151Z
UID:10210963-1750262400-1750265100@spacecenter.org
SUMMARY:Down to Earth: The Astronaut's Perspective Film
DESCRIPTION:
URL:https://spacecenter.org/events-calendar-event/down-to-earth-the-astronauts-perspective-film-5/2025-06-18/
LOCATION:Mission Briefing Center
CATEGORIES:Film
ATTACH;FMTTYPE=image/jpeg:https://spacecenter.org/wp-content/uploads/2025/02/profdeveducators1.jpg
END:VEVENT
BEGIN:VEVENT
DTSTART;TZID=America/Chicago:20250619T101500
DTEND;TZID=America/Chicago:20250619T103000
DTSTAMP:20260425T065726
CREATED:20250602T214310Z
LAST-MODIFIED:20250603T184018Z
UID:10083004-1750328100-1750329000@spacecenter.org
SUMMARY:Human Destiny Film
DESCRIPTION:
URL:https://spacecenter.org/events-calendar-event/human-destiny-film/2025-06-19/
LOCATION:Theater – Destiny
CATEGORIES:Film
ATTACH;FMTTYPE=image/jpeg:https://spacecenter.org/wp-content/uploads/2022/10/Destiny-Theater.jpg
END:VEVENT
BEGIN:VEVENT
DTSTART;TZID=America/Chicago:20250619T103000
DTEND;TZID=America/Chicago:20250619T104500
DTSTAMP:20260425T065726
CREATED:20250602T214417Z
LAST-MODIFIED:20250603T184348Z
UID:10086660-1750329000-1750329900@spacecenter.org
SUMMARY:Human Destiny Film
DESCRIPTION:
URL:https://spacecenter.org/events-calendar-event/human-destiny-film-2/2025-06-19/
LOCATION:Theater – Destiny
CATEGORIES:Film
ATTACH;FMTTYPE=image/jpeg:https://spacecenter.org/wp-content/uploads/2022/10/Destiny-Theater.jpg
END:VEVENT
BEGIN:VEVENT
DTSTART;TZID=America/Chicago:20250619T103000
DTEND;TZID=America/Chicago:20250619T112000
DTSTAMP:20260425T065726
CREATED:20250602T215207Z
LAST-MODIFIED:20250603T184552Z
UID:10090316-1750329000-1750332000@spacecenter.org
SUMMARY:The Moonwalkers: A Journey with Tom Hanks
DESCRIPTION:
URL:https://spacecenter.org/events-calendar-event/the-moonwalkers-a-journey-with-tom-hanks/2025-06-19/
LOCATION:Theater – Space Center
CATEGORIES:Film
ATTACH;FMTTYPE=image/png:https://spacecenter.org/wp-content/uploads/2025/03/moonwalkers.png
END:VEVENT
BEGIN:VEVENT
DTSTART;TZID=America/Chicago:20250619T104500
DTEND;TZID=America/Chicago:20250619T110000
DTSTAMP:20260425T065726
CREATED:20250602T214618Z
LAST-MODIFIED:20250603T185541Z
UID:10104940-1750329900-1750330800@spacecenter.org
SUMMARY:Human Destiny Film
DESCRIPTION:
URL:https://spacecenter.org/events-calendar-event/human-destiny-film-3/2025-06-19/
LOCATION:Theater – Destiny
CATEGORIES:Film
ATTACH;FMTTYPE=image/jpeg:https://spacecenter.org/wp-content/uploads/2022/10/Destiny-Theater.jpg
END:VEVENT
BEGIN:VEVENT
DTSTART;TZID=America/Chicago:20250619T110000
DTEND;TZID=America/Chicago:20250619T111500
DTSTAMP:20260425T065726
CREATED:20250602T214802Z
LAST-MODIFIED:20250603T185720Z
UID:10112252-1750330800-1750331700@spacecenter.org
SUMMARY:Human Destiny Film
DESCRIPTION:
URL:https://spacecenter.org/events-calendar-event/human-destiny-film-4/2025-06-19/
LOCATION:Theater – Destiny
CATEGORIES:Film
ATTACH;FMTTYPE=image/jpeg:https://spacecenter.org/wp-content/uploads/2022/10/Destiny-Theater.jpg
END:VEVENT
BEGIN:VEVENT
DTSTART;TZID=America/Chicago:20250619T110000
DTEND;TZID=America/Chicago:20250619T114500
DTSTAMP:20260425T065726
CREATED:20250602T210952Z
LAST-MODIFIED:20250603T185820Z
UID:10115908-1750330800-1750333500@spacecenter.org
SUMMARY:Down to Earth: The Astronaut's Perspective Film
DESCRIPTION:
URL:https://spacecenter.org/events-calendar-event/down-to-earth-the-astronauts-perspective-film/2025-06-19/
LOCATION:Mission Briefing Center
CATEGORIES:Film
ATTACH;FMTTYPE=image/jpeg:https://spacecenter.org/wp-content/uploads/2025/02/profdeveducators1.jpg
END:VEVENT
BEGIN:VEVENT
DTSTART;TZID=America/Chicago:20250619T111500
DTEND;TZID=America/Chicago:20250619T113000
DTSTAMP:20260425T065726
CREATED:20250602T214855Z
LAST-MODIFIED:20250603T185944Z
UID:10123220-1750331700-1750332600@spacecenter.org
SUMMARY:Human Destiny Film
DESCRIPTION:
URL:https://spacecenter.org/events-calendar-event/human-destiny-film-5/2025-06-19/
LOCATION:Theater – Destiny
CATEGORIES:Film
ATTACH;FMTTYPE=image/jpeg:https://spacecenter.org/wp-content/uploads/2022/10/Destiny-Theater.jpg
END:VEVENT
BEGIN:VEVENT
DTSTART;TZID=America/Chicago:20250619T113000
DTEND;TZID=America/Chicago:20250619T114500
DTSTAMP:20260425T065726
CREATED:20250602T214945Z
LAST-MODIFIED:20250603T190019Z
UID:10126876-1750332600-1750333500@spacecenter.org
SUMMARY:Human Destiny Film
DESCRIPTION:
URL:https://spacecenter.org/events-calendar-event/human-destiny-film-6/2025-06-19/
LOCATION:Theater – Destiny
CATEGORIES:Film
ATTACH;FMTTYPE=image/jpeg:https://spacecenter.org/wp-content/uploads/2022/10/Destiny-Theater.jpg
END:VEVENT
BEGIN:VEVENT
DTSTART;TZID=America/Chicago:20250619T113000
DTEND;TZID=America/Chicago:20250619T122000
DTSTAMP:20260425T065726
CREATED:20250602T215324Z
LAST-MODIFIED:20250603T190108Z
UID:10130532-1750332600-1750335600@spacecenter.org
SUMMARY:The Moonwalkers: A Journey with Tom Hanks
DESCRIPTION:
URL:https://spacecenter.org/events-calendar-event/the-moonwalkers-a-journey-with-tom-hanks-2/2025-06-19/
LOCATION:Theater – Space Center
CATEGORIES:Film
ATTACH;FMTTYPE=image/png:https://spacecenter.org/wp-content/uploads/2025/03/moonwalkers.png
END:VEVENT
BEGIN:VEVENT
DTSTART;TZID=America/Chicago:20250619T123000
DTEND;TZID=America/Chicago:20250619T132000
DTSTAMP:20260425T065726
CREATED:20250602T215422Z
LAST-MODIFIED:20250603T190647Z
UID:10145156-1750336200-1750339200@spacecenter.org
SUMMARY:The Moonwalkers: A Journey with Tom Hanks
DESCRIPTION:
URL:https://spacecenter.org/events-calendar-event/the-moonwalkers-a-journey-with-tom-hanks-3/2025-06-19/
LOCATION:Theater – Space Center
CATEGORIES:Film
ATTACH;FMTTYPE=image/png:https://spacecenter.org/wp-content/uploads/2025/03/moonwalkers.png
END:VEVENT
BEGIN:VEVENT
DTSTART;TZID=America/Chicago:20250619T130000
DTEND;TZID=America/Chicago:20250619T134500
DTSTAMP:20260425T065726
CREATED:20250602T211211Z
LAST-MODIFIED:20250603T190850Z
UID:10156124-1750338000-1750340700@spacecenter.org
SUMMARY:Down to Earth: The Astronaut's Perspective Film
DESCRIPTION:
URL:https://spacecenter.org/events-calendar-event/down-to-earth-the-astronauts-perspective-film-2/2025-06-19/
LOCATION:Mission Briefing Center
CATEGORIES:Film
ATTACH;FMTTYPE=image/jpeg:https://spacecenter.org/wp-content/uploads/2025/02/profdeveducators1.jpg
END:VEVENT
BEGIN:VEVENT
DTSTART;TZID=America/Chicago:20250619T133000
DTEND;TZID=America/Chicago:20250619T142000
DTSTAMP:20260425T065726
CREATED:20250602T215510Z
LAST-MODIFIED:20250603T190957Z
UID:10163436-1750339800-1750342800@spacecenter.org
SUMMARY:The Moonwalkers: A Journey with Tom Hanks
DESCRIPTION:
URL:https://spacecenter.org/events-calendar-event/the-moonwalkers-a-journey-with-tom-hanks-4/2025-06-19/
LOCATION:Theater – Space Center
CATEGORIES:Film
ATTACH;FMTTYPE=image/png:https://spacecenter.org/wp-content/uploads/2025/03/moonwalkers.png
END:VEVENT
BEGIN:VEVENT
DTSTART;TZID=America/Chicago:20250619T140000
DTEND;TZID=America/Chicago:20250619T144500
DTSTAMP:20260425T065726
CREATED:20250602T211401Z
LAST-MODIFIED:20250603T191451Z
UID:10178060-1750341600-1750344300@spacecenter.org
SUMMARY:Down to Earth: The Astronaut's Perspective Film
DESCRIPTION:
URL:https://spacecenter.org/events-calendar-event/down-to-earth-the-astronauts-perspective-film-3/2025-06-19/
LOCATION:Mission Briefing Center
CATEGORIES:Film
ATTACH;FMTTYPE=image/jpeg:https://spacecenter.org/wp-content/uploads/2025/02/profdeveducators1.jpg
END:VEVENT
END:VCALENDAR