BEGIN:VCALENDAR
VERSION:2.0
PRODID:-//Space Center Houston - ECPv6.15.15//NONSGML v1.0//EN
CALSCALE:GREGORIAN
METHOD:PUBLISH
X-WR-CALNAME:Space Center Houston
X-ORIGINAL-URL:https://spacecenter.org
X-WR-CALDESC:Events for Space Center Houston
REFRESH-INTERVAL;VALUE=DURATION:PT1H
X-Robots-Tag:noindex
X-PUBLISHED-TTL:PT1H
BEGIN:VTIMEZONE
TZID:America/Chicago
BEGIN:DAYLIGHT
TZOFFSETFROM:-0600
TZOFFSETTO:-0500
TZNAME:CDT
DTSTART:20250309T080000
END:DAYLIGHT
BEGIN:STANDARD
TZOFFSETFROM:-0500
TZOFFSETTO:-0600
TZNAME:CST
DTSTART:20251102T070000
END:STANDARD
BEGIN:DAYLIGHT
TZOFFSETFROM:-0600
TZOFFSETTO:-0500
TZNAME:CDT
DTSTART:20260308T080000
END:DAYLIGHT
BEGIN:STANDARD
TZOFFSETFROM:-0500
TZOFFSETTO:-0600
TZNAME:CST
DTSTART:20261101T070000
END:STANDARD
BEGIN:DAYLIGHT
TZOFFSETFROM:-0600
TZOFFSETTO:-0500
TZNAME:CDT
DTSTART:20270314T080000
END:DAYLIGHT
BEGIN:STANDARD
TZOFFSETFROM:-0500
TZOFFSETTO:-0600
TZNAME:CST
DTSTART:20271107T070000
END:STANDARD
END:VTIMEZONE
BEGIN:VEVENT
DTSTART;TZID=America/Chicago:20261024T150000
DTEND;TZID=America/Chicago:20261024T154500
DTSTAMP:20260422T130740
CREATED:20250602T211753Z
LAST-MODIFIED:20250603T191844Z
UID:10193176-1792854000-1792856700@spacecenter.org
SUMMARY:Down to Earth: The Astronaut's Perspective Film
DESCRIPTION:
URL:https://spacecenter.org/events-calendar-event/down-to-earth-the-astronauts-perspective-film-4/2026-10-24/
LOCATION:Mission Briefing Center
CATEGORIES:Film
ATTACH;FMTTYPE=image/jpeg:https://spacecenter.org/wp-content/uploads/2025/02/profdeveducators1.jpg
END:VEVENT
BEGIN:VEVENT
DTSTART;TZID=America/Chicago:20261024T153000
DTEND;TZID=America/Chicago:20261024T162000
DTSTAMP:20260422T130740
CREATED:20250602T215646Z
LAST-MODIFIED:20260115T171957Z
UID:10200488-1792855800-1792858800@spacecenter.org
SUMMARY:The Moonwalkers: A Journey with Tom Hanks
DESCRIPTION:Test description
URL:https://spacecenter.org/events-calendar-event/the-moonwalkers-a-journey-with-tom-hanks-6/2026-10-24/
LOCATION:Theater – Space Center
CATEGORIES:Film
ATTACH;FMTTYPE=image/png:https://spacecenter.org/wp-content/uploads/2025/03/moonwalkers.png
END:VEVENT
BEGIN:VEVENT
DTSTART;TZID=America/Chicago:20261024T160000
DTEND;TZID=America/Chicago:20261024T164500
DTSTAMP:20260422T130740
CREATED:20250602T211841Z
LAST-MODIFIED:20250603T192151Z
UID:10211456-1792857600-1792860300@spacecenter.org
SUMMARY:Down to Earth: The Astronaut's Perspective Film
DESCRIPTION:
URL:https://spacecenter.org/events-calendar-event/down-to-earth-the-astronauts-perspective-film-5/2026-10-24/
LOCATION:Mission Briefing Center
CATEGORIES:Film
ATTACH;FMTTYPE=image/jpeg:https://spacecenter.org/wp-content/uploads/2025/02/profdeveducators1.jpg
END:VEVENT
BEGIN:VEVENT
DTSTART;TZID=America/Chicago:20261025T101500
DTEND;TZID=America/Chicago:20261025T103000
DTSTAMP:20260422T130740
CREATED:20250602T214310Z
LAST-MODIFIED:20250603T184018Z
UID:10083497-1792923300-1792924200@spacecenter.org
SUMMARY:Human Destiny Film
DESCRIPTION:
URL:https://spacecenter.org/events-calendar-event/human-destiny-film/2026-10-25/
LOCATION:Theater – Destiny
CATEGORIES:Film
ATTACH;FMTTYPE=image/jpeg:https://spacecenter.org/wp-content/uploads/2022/10/Destiny-Theater.jpg
END:VEVENT
BEGIN:VEVENT
DTSTART;TZID=America/Chicago:20261025T103000
DTEND;TZID=America/Chicago:20261025T104500
DTSTAMP:20260422T130740
CREATED:20250602T214417Z
LAST-MODIFIED:20250603T184348Z
UID:10087153-1792924200-1792925100@spacecenter.org
SUMMARY:Human Destiny Film
DESCRIPTION:
URL:https://spacecenter.org/events-calendar-event/human-destiny-film-2/2026-10-25/
LOCATION:Theater – Destiny
CATEGORIES:Film
ATTACH;FMTTYPE=image/jpeg:https://spacecenter.org/wp-content/uploads/2022/10/Destiny-Theater.jpg
END:VEVENT
BEGIN:VEVENT
DTSTART;TZID=America/Chicago:20261025T103000
DTEND;TZID=America/Chicago:20261025T112000
DTSTAMP:20260422T130740
CREATED:20250602T215207Z
LAST-MODIFIED:20250603T184552Z
UID:10090809-1792924200-1792927200@spacecenter.org
SUMMARY:The Moonwalkers: A Journey with Tom Hanks
DESCRIPTION:
URL:https://spacecenter.org/events-calendar-event/the-moonwalkers-a-journey-with-tom-hanks/2026-10-25/
LOCATION:Theater – Space Center
CATEGORIES:Film
ATTACH;FMTTYPE=image/png:https://spacecenter.org/wp-content/uploads/2025/03/moonwalkers.png
END:VEVENT
BEGIN:VEVENT
DTSTART;TZID=America/Chicago:20261025T104500
DTEND;TZID=America/Chicago:20261025T110000
DTSTAMP:20260422T130740
CREATED:20250602T214618Z
LAST-MODIFIED:20250603T185541Z
UID:10105433-1792925100-1792926000@spacecenter.org
SUMMARY:Human Destiny Film
DESCRIPTION:
URL:https://spacecenter.org/events-calendar-event/human-destiny-film-3/2026-10-25/
LOCATION:Theater – Destiny
CATEGORIES:Film
ATTACH;FMTTYPE=image/jpeg:https://spacecenter.org/wp-content/uploads/2022/10/Destiny-Theater.jpg
END:VEVENT
BEGIN:VEVENT
DTSTART;TZID=America/Chicago:20261025T110000
DTEND;TZID=America/Chicago:20261025T111500
DTSTAMP:20260422T130740
CREATED:20250602T214802Z
LAST-MODIFIED:20250603T185720Z
UID:10112745-1792926000-1792926900@spacecenter.org
SUMMARY:Human Destiny Film
DESCRIPTION:
URL:https://spacecenter.org/events-calendar-event/human-destiny-film-4/2026-10-25/
LOCATION:Theater – Destiny
CATEGORIES:Film
ATTACH;FMTTYPE=image/jpeg:https://spacecenter.org/wp-content/uploads/2022/10/Destiny-Theater.jpg
END:VEVENT
BEGIN:VEVENT
DTSTART;TZID=America/Chicago:20261025T110000
DTEND;TZID=America/Chicago:20261025T114500
DTSTAMP:20260422T130740
CREATED:20250602T210952Z
LAST-MODIFIED:20250603T185820Z
UID:10116401-1792926000-1792928700@spacecenter.org
SUMMARY:Down to Earth: The Astronaut's Perspective Film
DESCRIPTION:
URL:https://spacecenter.org/events-calendar-event/down-to-earth-the-astronauts-perspective-film/2026-10-25/
LOCATION:Mission Briefing Center
CATEGORIES:Film
ATTACH;FMTTYPE=image/jpeg:https://spacecenter.org/wp-content/uploads/2025/02/profdeveducators1.jpg
END:VEVENT
BEGIN:VEVENT
DTSTART;TZID=America/Chicago:20261025T111500
DTEND;TZID=America/Chicago:20261025T113000
DTSTAMP:20260422T130740
CREATED:20250602T214855Z
LAST-MODIFIED:20250603T185944Z
UID:10123713-1792926900-1792927800@spacecenter.org
SUMMARY:Human Destiny Film
DESCRIPTION:
URL:https://spacecenter.org/events-calendar-event/human-destiny-film-5/2026-10-25/
LOCATION:Theater – Destiny
CATEGORIES:Film
ATTACH;FMTTYPE=image/jpeg:https://spacecenter.org/wp-content/uploads/2022/10/Destiny-Theater.jpg
END:VEVENT
BEGIN:VEVENT
DTSTART;TZID=America/Chicago:20261025T113000
DTEND;TZID=America/Chicago:20261025T114500
DTSTAMP:20260422T130740
CREATED:20250602T214945Z
LAST-MODIFIED:20250603T190019Z
UID:10127369-1792927800-1792928700@spacecenter.org
SUMMARY:Human Destiny Film
DESCRIPTION:
URL:https://spacecenter.org/events-calendar-event/human-destiny-film-6/2026-10-25/
LOCATION:Theater – Destiny
CATEGORIES:Film
ATTACH;FMTTYPE=image/jpeg:https://spacecenter.org/wp-content/uploads/2022/10/Destiny-Theater.jpg
END:VEVENT
BEGIN:VEVENT
DTSTART;TZID=America/Chicago:20261025T113000
DTEND;TZID=America/Chicago:20261025T122000
DTSTAMP:20260422T130740
CREATED:20250602T215324Z
LAST-MODIFIED:20250603T190108Z
UID:10131025-1792927800-1792930800@spacecenter.org
SUMMARY:The Moonwalkers: A Journey with Tom Hanks
DESCRIPTION:
URL:https://spacecenter.org/events-calendar-event/the-moonwalkers-a-journey-with-tom-hanks-2/2026-10-25/
LOCATION:Theater – Space Center
CATEGORIES:Film
ATTACH;FMTTYPE=image/png:https://spacecenter.org/wp-content/uploads/2025/03/moonwalkers.png
END:VEVENT
BEGIN:VEVENT
DTSTART;TZID=America/Chicago:20261025T123000
DTEND;TZID=America/Chicago:20261025T132000
DTSTAMP:20260422T130740
CREATED:20250602T215422Z
LAST-MODIFIED:20250603T190647Z
UID:10145649-1792931400-1792934400@spacecenter.org
SUMMARY:The Moonwalkers: A Journey with Tom Hanks
DESCRIPTION:
URL:https://spacecenter.org/events-calendar-event/the-moonwalkers-a-journey-with-tom-hanks-3/2026-10-25/
LOCATION:Theater – Space Center
CATEGORIES:Film
ATTACH;FMTTYPE=image/png:https://spacecenter.org/wp-content/uploads/2025/03/moonwalkers.png
END:VEVENT
BEGIN:VEVENT
DTSTART;TZID=America/Chicago:20261025T130000
DTEND;TZID=America/Chicago:20261025T134500
DTSTAMP:20260422T130740
CREATED:20250602T211211Z
LAST-MODIFIED:20250603T190850Z
UID:10156617-1792933200-1792935900@spacecenter.org
SUMMARY:Down to Earth: The Astronaut's Perspective Film
DESCRIPTION:
URL:https://spacecenter.org/events-calendar-event/down-to-earth-the-astronauts-perspective-film-2/2026-10-25/
LOCATION:Mission Briefing Center
CATEGORIES:Film
ATTACH;FMTTYPE=image/jpeg:https://spacecenter.org/wp-content/uploads/2025/02/profdeveducators1.jpg
END:VEVENT
BEGIN:VEVENT
DTSTART;TZID=America/Chicago:20261025T133000
DTEND;TZID=America/Chicago:20261025T142000
DTSTAMP:20260422T130740
CREATED:20250602T215510Z
LAST-MODIFIED:20250603T190957Z
UID:10163929-1792935000-1792938000@spacecenter.org
SUMMARY:The Moonwalkers: A Journey with Tom Hanks
DESCRIPTION:
URL:https://spacecenter.org/events-calendar-event/the-moonwalkers-a-journey-with-tom-hanks-4/2026-10-25/
LOCATION:Theater – Space Center
CATEGORIES:Film
ATTACH;FMTTYPE=image/png:https://spacecenter.org/wp-content/uploads/2025/03/moonwalkers.png
END:VEVENT
BEGIN:VEVENT
DTSTART;TZID=America/Chicago:20261025T140000
DTEND;TZID=America/Chicago:20261025T144500
DTSTAMP:20260422T130740
CREATED:20250602T211401Z
LAST-MODIFIED:20250603T191451Z
UID:10178553-1792936800-1792939500@spacecenter.org
SUMMARY:Down to Earth: The Astronaut's Perspective Film
DESCRIPTION:
URL:https://spacecenter.org/events-calendar-event/down-to-earth-the-astronauts-perspective-film-3/2026-10-25/
LOCATION:Mission Briefing Center
CATEGORIES:Film
ATTACH;FMTTYPE=image/jpeg:https://spacecenter.org/wp-content/uploads/2025/02/profdeveducators1.jpg
END:VEVENT
BEGIN:VEVENT
DTSTART;TZID=America/Chicago:20261025T143000
DTEND;TZID=America/Chicago:20261025T152000
DTSTAMP:20260422T130740
CREATED:20250602T215601Z
LAST-MODIFIED:20250603T191630Z
UID:10182209-1792938600-1792941600@spacecenter.org
SUMMARY:The Moonwalkers: A Journey with Tom Hanks
DESCRIPTION:
URL:https://spacecenter.org/events-calendar-event/the-moonwalkers-a-journey-with-tom-hanks-5/2026-10-25/
LOCATION:Theater – Space Center
CATEGORIES:Film
ATTACH;FMTTYPE=image/png:https://spacecenter.org/wp-content/uploads/2025/03/moonwalkers.png
END:VEVENT
BEGIN:VEVENT
DTSTART;TZID=America/Chicago:20261025T150000
DTEND;TZID=America/Chicago:20261025T154500
DTSTAMP:20260422T130740
CREATED:20250602T211753Z
LAST-MODIFIED:20250603T191844Z
UID:10193177-1792940400-1792943100@spacecenter.org
SUMMARY:Down to Earth: The Astronaut's Perspective Film
DESCRIPTION:
URL:https://spacecenter.org/events-calendar-event/down-to-earth-the-astronauts-perspective-film-4/2026-10-25/
LOCATION:Mission Briefing Center
CATEGORIES:Film
ATTACH;FMTTYPE=image/jpeg:https://spacecenter.org/wp-content/uploads/2025/02/profdeveducators1.jpg
END:VEVENT
BEGIN:VEVENT
DTSTART;TZID=America/Chicago:20261025T153000
DTEND;TZID=America/Chicago:20261025T162000
DTSTAMP:20260422T130740
CREATED:20250602T215646Z
LAST-MODIFIED:20260115T171957Z
UID:10200489-1792942200-1792945200@spacecenter.org
SUMMARY:The Moonwalkers: A Journey with Tom Hanks
DESCRIPTION:Test description
URL:https://spacecenter.org/events-calendar-event/the-moonwalkers-a-journey-with-tom-hanks-6/2026-10-25/
LOCATION:Theater – Space Center
CATEGORIES:Film
ATTACH;FMTTYPE=image/png:https://spacecenter.org/wp-content/uploads/2025/03/moonwalkers.png
END:VEVENT
BEGIN:VEVENT
DTSTART;TZID=America/Chicago:20261025T160000
DTEND;TZID=America/Chicago:20261025T164500
DTSTAMP:20260422T130740
CREATED:20250602T211841Z
LAST-MODIFIED:20250603T192151Z
UID:10211457-1792944000-1792946700@spacecenter.org
SUMMARY:Down to Earth: The Astronaut's Perspective Film
DESCRIPTION:
URL:https://spacecenter.org/events-calendar-event/down-to-earth-the-astronauts-perspective-film-5/2026-10-25/
LOCATION:Mission Briefing Center
CATEGORIES:Film
ATTACH;FMTTYPE=image/jpeg:https://spacecenter.org/wp-content/uploads/2025/02/profdeveducators1.jpg
END:VEVENT
BEGIN:VEVENT
DTSTART;TZID=America/Chicago:20261026T101500
DTEND;TZID=America/Chicago:20261026T103000
DTSTAMP:20260422T130740
CREATED:20250602T214310Z
LAST-MODIFIED:20250603T184018Z
UID:10083498-1793009700-1793010600@spacecenter.org
SUMMARY:Human Destiny Film
DESCRIPTION:
URL:https://spacecenter.org/events-calendar-event/human-destiny-film/2026-10-26/
LOCATION:Theater – Destiny
CATEGORIES:Film
ATTACH;FMTTYPE=image/jpeg:https://spacecenter.org/wp-content/uploads/2022/10/Destiny-Theater.jpg
END:VEVENT
BEGIN:VEVENT
DTSTART;TZID=America/Chicago:20261026T103000
DTEND;TZID=America/Chicago:20261026T104500
DTSTAMP:20260422T130740
CREATED:20250602T214417Z
LAST-MODIFIED:20250603T184348Z
UID:10087154-1793010600-1793011500@spacecenter.org
SUMMARY:Human Destiny Film
DESCRIPTION:
URL:https://spacecenter.org/events-calendar-event/human-destiny-film-2/2026-10-26/
LOCATION:Theater – Destiny
CATEGORIES:Film
ATTACH;FMTTYPE=image/jpeg:https://spacecenter.org/wp-content/uploads/2022/10/Destiny-Theater.jpg
END:VEVENT
BEGIN:VEVENT
DTSTART;TZID=America/Chicago:20261026T103000
DTEND;TZID=America/Chicago:20261026T112000
DTSTAMP:20260422T130740
CREATED:20250602T215207Z
LAST-MODIFIED:20250603T184552Z
UID:10090810-1793010600-1793013600@spacecenter.org
SUMMARY:The Moonwalkers: A Journey with Tom Hanks
DESCRIPTION:
URL:https://spacecenter.org/events-calendar-event/the-moonwalkers-a-journey-with-tom-hanks/2026-10-26/
LOCATION:Theater – Space Center
CATEGORIES:Film
ATTACH;FMTTYPE=image/png:https://spacecenter.org/wp-content/uploads/2025/03/moonwalkers.png
END:VEVENT
BEGIN:VEVENT
DTSTART;TZID=America/Chicago:20261026T104500
DTEND;TZID=America/Chicago:20261026T110000
DTSTAMP:20260422T130740
CREATED:20250602T214618Z
LAST-MODIFIED:20250603T185541Z
UID:10105434-1793011500-1793012400@spacecenter.org
SUMMARY:Human Destiny Film
DESCRIPTION:
URL:https://spacecenter.org/events-calendar-event/human-destiny-film-3/2026-10-26/
LOCATION:Theater – Destiny
CATEGORIES:Film
ATTACH;FMTTYPE=image/jpeg:https://spacecenter.org/wp-content/uploads/2022/10/Destiny-Theater.jpg
END:VEVENT
BEGIN:VEVENT
DTSTART;TZID=America/Chicago:20261026T110000
DTEND;TZID=America/Chicago:20261026T111500
DTSTAMP:20260422T130740
CREATED:20250602T214802Z
LAST-MODIFIED:20250603T185720Z
UID:10112746-1793012400-1793013300@spacecenter.org
SUMMARY:Human Destiny Film
DESCRIPTION:
URL:https://spacecenter.org/events-calendar-event/human-destiny-film-4/2026-10-26/
LOCATION:Theater – Destiny
CATEGORIES:Film
ATTACH;FMTTYPE=image/jpeg:https://spacecenter.org/wp-content/uploads/2022/10/Destiny-Theater.jpg
END:VEVENT
BEGIN:VEVENT
DTSTART;TZID=America/Chicago:20261026T110000
DTEND;TZID=America/Chicago:20261026T114500
DTSTAMP:20260422T130740
CREATED:20250602T210952Z
LAST-MODIFIED:20250603T185820Z
UID:10116402-1793012400-1793015100@spacecenter.org
SUMMARY:Down to Earth: The Astronaut's Perspective Film
DESCRIPTION:
URL:https://spacecenter.org/events-calendar-event/down-to-earth-the-astronauts-perspective-film/2026-10-26/
LOCATION:Mission Briefing Center
CATEGORIES:Film
ATTACH;FMTTYPE=image/jpeg:https://spacecenter.org/wp-content/uploads/2025/02/profdeveducators1.jpg
END:VEVENT
BEGIN:VEVENT
DTSTART;TZID=America/Chicago:20261026T111500
DTEND;TZID=America/Chicago:20261026T113000
DTSTAMP:20260422T130740
CREATED:20250602T214855Z
LAST-MODIFIED:20250603T185944Z
UID:10123714-1793013300-1793014200@spacecenter.org
SUMMARY:Human Destiny Film
DESCRIPTION:
URL:https://spacecenter.org/events-calendar-event/human-destiny-film-5/2026-10-26/
LOCATION:Theater – Destiny
CATEGORIES:Film
ATTACH;FMTTYPE=image/jpeg:https://spacecenter.org/wp-content/uploads/2022/10/Destiny-Theater.jpg
END:VEVENT
BEGIN:VEVENT
DTSTART;TZID=America/Chicago:20261026T113000
DTEND;TZID=America/Chicago:20261026T114500
DTSTAMP:20260422T130740
CREATED:20250602T214945Z
LAST-MODIFIED:20250603T190019Z
UID:10127370-1793014200-1793015100@spacecenter.org
SUMMARY:Human Destiny Film
DESCRIPTION:
URL:https://spacecenter.org/events-calendar-event/human-destiny-film-6/2026-10-26/
LOCATION:Theater – Destiny
CATEGORIES:Film
ATTACH;FMTTYPE=image/jpeg:https://spacecenter.org/wp-content/uploads/2022/10/Destiny-Theater.jpg
END:VEVENT
BEGIN:VEVENT
DTSTART;TZID=America/Chicago:20261026T113000
DTEND;TZID=America/Chicago:20261026T122000
DTSTAMP:20260422T130740
CREATED:20250602T215324Z
LAST-MODIFIED:20250603T190108Z
UID:10131026-1793014200-1793017200@spacecenter.org
SUMMARY:The Moonwalkers: A Journey with Tom Hanks
DESCRIPTION:
URL:https://spacecenter.org/events-calendar-event/the-moonwalkers-a-journey-with-tom-hanks-2/2026-10-26/
LOCATION:Theater – Space Center
CATEGORIES:Film
ATTACH;FMTTYPE=image/png:https://spacecenter.org/wp-content/uploads/2025/03/moonwalkers.png
END:VEVENT
BEGIN:VEVENT
DTSTART;TZID=America/Chicago:20261026T123000
DTEND;TZID=America/Chicago:20261026T132000
DTSTAMP:20260422T130740
CREATED:20250602T215422Z
LAST-MODIFIED:20250603T190647Z
UID:10145650-1793017800-1793020800@spacecenter.org
SUMMARY:The Moonwalkers: A Journey with Tom Hanks
DESCRIPTION:
URL:https://spacecenter.org/events-calendar-event/the-moonwalkers-a-journey-with-tom-hanks-3/2026-10-26/
LOCATION:Theater – Space Center
CATEGORIES:Film
ATTACH;FMTTYPE=image/png:https://spacecenter.org/wp-content/uploads/2025/03/moonwalkers.png
END:VEVENT
END:VCALENDAR