BEGIN:VCALENDAR
VERSION:2.0
PRODID:-//Space Center Houston - ECPv6.15.15//NONSGML v1.0//EN
CALSCALE:GREGORIAN
METHOD:PUBLISH
X-WR-CALNAME:Space Center Houston
X-ORIGINAL-URL:https://spacecenter.org
X-WR-CALDESC:Events for Space Center Houston
REFRESH-INTERVAL;VALUE=DURATION:PT1H
X-Robots-Tag:noindex
X-PUBLISHED-TTL:PT1H
BEGIN:VTIMEZONE
TZID:America/Chicago
BEGIN:DAYLIGHT
TZOFFSETFROM:-0600
TZOFFSETTO:-0500
TZNAME:CDT
DTSTART:20280312T080000
END:DAYLIGHT
BEGIN:STANDARD
TZOFFSETFROM:-0500
TZOFFSETTO:-0600
TZNAME:CST
DTSTART:20281105T070000
END:STANDARD
BEGIN:DAYLIGHT
TZOFFSETFROM:-0600
TZOFFSETTO:-0500
TZNAME:CDT
DTSTART:20290311T080000
END:DAYLIGHT
BEGIN:STANDARD
TZOFFSETFROM:-0500
TZOFFSETTO:-0600
TZNAME:CST
DTSTART:20291104T070000
END:STANDARD
BEGIN:DAYLIGHT
TZOFFSETFROM:-0600
TZOFFSETTO:-0500
TZNAME:CDT
DTSTART:20300310T080000
END:DAYLIGHT
BEGIN:STANDARD
TZOFFSETFROM:-0500
TZOFFSETTO:-0600
TZNAME:CST
DTSTART:20301103T070000
END:STANDARD
END:VTIMEZONE
BEGIN:VEVENT
DTSTART;TZID=America/Chicago:20290823T160000
DTEND;TZID=America/Chicago:20290823T164500
DTSTAMP:20260423T184510
CREATED:20250602T211841Z
LAST-MODIFIED:20250603T192151Z
UID:10212490-1882195200-1882197900@spacecenter.org
SUMMARY:Down to Earth: The Astronaut's Perspective Film
DESCRIPTION:
URL:https://spacecenter.org/events-calendar-event/down-to-earth-the-astronauts-perspective-film-5/2029-08-23/
LOCATION:Mission Briefing Center
CATEGORIES:Film
ATTACH;FMTTYPE=image/jpeg:https://spacecenter.org/wp-content/uploads/2025/02/profdeveducators1.jpg
END:VEVENT
BEGIN:VEVENT
DTSTART;TZID=America/Chicago:20290824T101500
DTEND;TZID=America/Chicago:20290824T103000
DTSTAMP:20260423T184510
CREATED:20250602T214310Z
LAST-MODIFIED:20250603T184018Z
UID:10084531-1882260900-1882261800@spacecenter.org
SUMMARY:Human Destiny Film
DESCRIPTION:
URL:https://spacecenter.org/events-calendar-event/human-destiny-film/2029-08-24/
LOCATION:Theater – Destiny
CATEGORIES:Film
ATTACH;FMTTYPE=image/jpeg:https://spacecenter.org/wp-content/uploads/2022/10/Destiny-Theater.jpg
END:VEVENT
BEGIN:VEVENT
DTSTART;TZID=America/Chicago:20290824T103000
DTEND;TZID=America/Chicago:20290824T104500
DTSTAMP:20260423T184510
CREATED:20250602T214417Z
LAST-MODIFIED:20250603T184348Z
UID:10088187-1882261800-1882262700@spacecenter.org
SUMMARY:Human Destiny Film
DESCRIPTION:
URL:https://spacecenter.org/events-calendar-event/human-destiny-film-2/2029-08-24/
LOCATION:Theater – Destiny
CATEGORIES:Film
ATTACH;FMTTYPE=image/jpeg:https://spacecenter.org/wp-content/uploads/2022/10/Destiny-Theater.jpg
END:VEVENT
BEGIN:VEVENT
DTSTART;TZID=America/Chicago:20290824T103000
DTEND;TZID=America/Chicago:20290824T112000
DTSTAMP:20260423T184510
CREATED:20250602T215207Z
LAST-MODIFIED:20250603T184552Z
UID:10091843-1882261800-1882264800@spacecenter.org
SUMMARY:The Moonwalkers: A Journey with Tom Hanks
DESCRIPTION:
URL:https://spacecenter.org/events-calendar-event/the-moonwalkers-a-journey-with-tom-hanks/2029-08-24/
LOCATION:Theater – Space Center
CATEGORIES:Film
ATTACH;FMTTYPE=image/png:https://spacecenter.org/wp-content/uploads/2025/03/moonwalkers.png
END:VEVENT
BEGIN:VEVENT
DTSTART;TZID=America/Chicago:20290824T104500
DTEND;TZID=America/Chicago:20290824T110000
DTSTAMP:20260423T184510
CREATED:20250602T214618Z
LAST-MODIFIED:20250603T185541Z
UID:10106467-1882262700-1882263600@spacecenter.org
SUMMARY:Human Destiny Film
DESCRIPTION:
URL:https://spacecenter.org/events-calendar-event/human-destiny-film-3/2029-08-24/
LOCATION:Theater – Destiny
CATEGORIES:Film
ATTACH;FMTTYPE=image/jpeg:https://spacecenter.org/wp-content/uploads/2022/10/Destiny-Theater.jpg
END:VEVENT
BEGIN:VEVENT
DTSTART;TZID=America/Chicago:20290824T110000
DTEND;TZID=America/Chicago:20290824T111500
DTSTAMP:20260423T184510
CREATED:20250602T214802Z
LAST-MODIFIED:20250603T185720Z
UID:10113779-1882263600-1882264500@spacecenter.org
SUMMARY:Human Destiny Film
DESCRIPTION:
URL:https://spacecenter.org/events-calendar-event/human-destiny-film-4/2029-08-24/
LOCATION:Theater – Destiny
CATEGORIES:Film
ATTACH;FMTTYPE=image/jpeg:https://spacecenter.org/wp-content/uploads/2022/10/Destiny-Theater.jpg
END:VEVENT
BEGIN:VEVENT
DTSTART;TZID=America/Chicago:20290824T110000
DTEND;TZID=America/Chicago:20290824T114500
DTSTAMP:20260423T184510
CREATED:20250602T210952Z
LAST-MODIFIED:20250603T185820Z
UID:10117435-1882263600-1882266300@spacecenter.org
SUMMARY:Down to Earth: The Astronaut's Perspective Film
DESCRIPTION:
URL:https://spacecenter.org/events-calendar-event/down-to-earth-the-astronauts-perspective-film/2029-08-24/
LOCATION:Mission Briefing Center
CATEGORIES:Film
ATTACH;FMTTYPE=image/jpeg:https://spacecenter.org/wp-content/uploads/2025/02/profdeveducators1.jpg
END:VEVENT
BEGIN:VEVENT
DTSTART;TZID=America/Chicago:20290824T111500
DTEND;TZID=America/Chicago:20290824T113000
DTSTAMP:20260423T184510
CREATED:20250602T214855Z
LAST-MODIFIED:20250603T185944Z
UID:10124747-1882264500-1882265400@spacecenter.org
SUMMARY:Human Destiny Film
DESCRIPTION:
URL:https://spacecenter.org/events-calendar-event/human-destiny-film-5/2029-08-24/
LOCATION:Theater – Destiny
CATEGORIES:Film
ATTACH;FMTTYPE=image/jpeg:https://spacecenter.org/wp-content/uploads/2022/10/Destiny-Theater.jpg
END:VEVENT
BEGIN:VEVENT
DTSTART;TZID=America/Chicago:20290824T113000
DTEND;TZID=America/Chicago:20290824T114500
DTSTAMP:20260423T184510
CREATED:20250602T214945Z
LAST-MODIFIED:20250603T190019Z
UID:10128403-1882265400-1882266300@spacecenter.org
SUMMARY:Human Destiny Film
DESCRIPTION:
URL:https://spacecenter.org/events-calendar-event/human-destiny-film-6/2029-08-24/
LOCATION:Theater – Destiny
CATEGORIES:Film
ATTACH;FMTTYPE=image/jpeg:https://spacecenter.org/wp-content/uploads/2022/10/Destiny-Theater.jpg
END:VEVENT
BEGIN:VEVENT
DTSTART;TZID=America/Chicago:20290824T113000
DTEND;TZID=America/Chicago:20290824T122000
DTSTAMP:20260423T184510
CREATED:20250602T215324Z
LAST-MODIFIED:20250603T190108Z
UID:10132059-1882265400-1882268400@spacecenter.org
SUMMARY:The Moonwalkers: A Journey with Tom Hanks
DESCRIPTION:
URL:https://spacecenter.org/events-calendar-event/the-moonwalkers-a-journey-with-tom-hanks-2/2029-08-24/
LOCATION:Theater – Space Center
CATEGORIES:Film
ATTACH;FMTTYPE=image/png:https://spacecenter.org/wp-content/uploads/2025/03/moonwalkers.png
END:VEVENT
BEGIN:VEVENT
DTSTART;TZID=America/Chicago:20290824T123000
DTEND;TZID=America/Chicago:20290824T132000
DTSTAMP:20260423T184510
CREATED:20250602T215422Z
LAST-MODIFIED:20250603T190647Z
UID:10146683-1882269000-1882272000@spacecenter.org
SUMMARY:The Moonwalkers: A Journey with Tom Hanks
DESCRIPTION:
URL:https://spacecenter.org/events-calendar-event/the-moonwalkers-a-journey-with-tom-hanks-3/2029-08-24/
LOCATION:Theater – Space Center
CATEGORIES:Film
ATTACH;FMTTYPE=image/png:https://spacecenter.org/wp-content/uploads/2025/03/moonwalkers.png
END:VEVENT
BEGIN:VEVENT
DTSTART;TZID=America/Chicago:20290824T130000
DTEND;TZID=America/Chicago:20290824T134500
DTSTAMP:20260423T184510
CREATED:20250602T211211Z
LAST-MODIFIED:20250603T190850Z
UID:10157651-1882270800-1882273500@spacecenter.org
SUMMARY:Down to Earth: The Astronaut's Perspective Film
DESCRIPTION:
URL:https://spacecenter.org/events-calendar-event/down-to-earth-the-astronauts-perspective-film-2/2029-08-24/
LOCATION:Mission Briefing Center
CATEGORIES:Film
ATTACH;FMTTYPE=image/jpeg:https://spacecenter.org/wp-content/uploads/2025/02/profdeveducators1.jpg
END:VEVENT
BEGIN:VEVENT
DTSTART;TZID=America/Chicago:20290824T133000
DTEND;TZID=America/Chicago:20290824T142000
DTSTAMP:20260423T184510
CREATED:20250602T215510Z
LAST-MODIFIED:20250603T190957Z
UID:10164963-1882272600-1882275600@spacecenter.org
SUMMARY:The Moonwalkers: A Journey with Tom Hanks
DESCRIPTION:
URL:https://spacecenter.org/events-calendar-event/the-moonwalkers-a-journey-with-tom-hanks-4/2029-08-24/
LOCATION:Theater – Space Center
CATEGORIES:Film
ATTACH;FMTTYPE=image/png:https://spacecenter.org/wp-content/uploads/2025/03/moonwalkers.png
END:VEVENT
BEGIN:VEVENT
DTSTART;TZID=America/Chicago:20290824T140000
DTEND;TZID=America/Chicago:20290824T144500
DTSTAMP:20260423T184510
CREATED:20250602T211401Z
LAST-MODIFIED:20250603T191451Z
UID:10179587-1882274400-1882277100@spacecenter.org
SUMMARY:Down to Earth: The Astronaut's Perspective Film
DESCRIPTION:
URL:https://spacecenter.org/events-calendar-event/down-to-earth-the-astronauts-perspective-film-3/2029-08-24/
LOCATION:Mission Briefing Center
CATEGORIES:Film
ATTACH;FMTTYPE=image/jpeg:https://spacecenter.org/wp-content/uploads/2025/02/profdeveducators1.jpg
END:VEVENT
BEGIN:VEVENT
DTSTART;TZID=America/Chicago:20290824T143000
DTEND;TZID=America/Chicago:20290824T152000
DTSTAMP:20260423T184510
CREATED:20250602T215601Z
LAST-MODIFIED:20250603T191630Z
UID:10183243-1882276200-1882279200@spacecenter.org
SUMMARY:The Moonwalkers: A Journey with Tom Hanks
DESCRIPTION:
URL:https://spacecenter.org/events-calendar-event/the-moonwalkers-a-journey-with-tom-hanks-5/2029-08-24/
LOCATION:Theater – Space Center
CATEGORIES:Film
ATTACH;FMTTYPE=image/png:https://spacecenter.org/wp-content/uploads/2025/03/moonwalkers.png
END:VEVENT
BEGIN:VEVENT
DTSTART;TZID=America/Chicago:20290824T150000
DTEND;TZID=America/Chicago:20290824T154500
DTSTAMP:20260423T184510
CREATED:20250602T211753Z
LAST-MODIFIED:20250603T191844Z
UID:10194211-1882278000-1882280700@spacecenter.org
SUMMARY:Down to Earth: The Astronaut's Perspective Film
DESCRIPTION:
URL:https://spacecenter.org/events-calendar-event/down-to-earth-the-astronauts-perspective-film-4/2029-08-24/
LOCATION:Mission Briefing Center
CATEGORIES:Film
ATTACH;FMTTYPE=image/jpeg:https://spacecenter.org/wp-content/uploads/2025/02/profdeveducators1.jpg
END:VEVENT
BEGIN:VEVENT
DTSTART;TZID=America/Chicago:20290824T153000
DTEND;TZID=America/Chicago:20290824T162000
DTSTAMP:20260423T184510
CREATED:20250602T215646Z
LAST-MODIFIED:20260115T171957Z
UID:10201523-1882279800-1882282800@spacecenter.org
SUMMARY:The Moonwalkers: A Journey with Tom Hanks
DESCRIPTION:Test description
URL:https://spacecenter.org/events-calendar-event/the-moonwalkers-a-journey-with-tom-hanks-6/2029-08-24/
LOCATION:Theater – Space Center
CATEGORIES:Film
ATTACH;FMTTYPE=image/png:https://spacecenter.org/wp-content/uploads/2025/03/moonwalkers.png
END:VEVENT
BEGIN:VEVENT
DTSTART;TZID=America/Chicago:20290824T160000
DTEND;TZID=America/Chicago:20290824T164500
DTSTAMP:20260423T184510
CREATED:20250602T211841Z
LAST-MODIFIED:20250603T192151Z
UID:10212491-1882281600-1882284300@spacecenter.org
SUMMARY:Down to Earth: The Astronaut's Perspective Film
DESCRIPTION:
URL:https://spacecenter.org/events-calendar-event/down-to-earth-the-astronauts-perspective-film-5/2029-08-24/
LOCATION:Mission Briefing Center
CATEGORIES:Film
ATTACH;FMTTYPE=image/jpeg:https://spacecenter.org/wp-content/uploads/2025/02/profdeveducators1.jpg
END:VEVENT
BEGIN:VEVENT
DTSTART;TZID=America/Chicago:20290825T101500
DTEND;TZID=America/Chicago:20290825T103000
DTSTAMP:20260423T184510
CREATED:20250602T214310Z
LAST-MODIFIED:20250603T184018Z
UID:10084532-1882347300-1882348200@spacecenter.org
SUMMARY:Human Destiny Film
DESCRIPTION:
URL:https://spacecenter.org/events-calendar-event/human-destiny-film/2029-08-25/
LOCATION:Theater – Destiny
CATEGORIES:Film
ATTACH;FMTTYPE=image/jpeg:https://spacecenter.org/wp-content/uploads/2022/10/Destiny-Theater.jpg
END:VEVENT
BEGIN:VEVENT
DTSTART;TZID=America/Chicago:20290825T103000
DTEND;TZID=America/Chicago:20290825T104500
DTSTAMP:20260423T184510
CREATED:20250602T214417Z
LAST-MODIFIED:20250603T184348Z
UID:10088188-1882348200-1882349100@spacecenter.org
SUMMARY:Human Destiny Film
DESCRIPTION:
URL:https://spacecenter.org/events-calendar-event/human-destiny-film-2/2029-08-25/
LOCATION:Theater – Destiny
CATEGORIES:Film
ATTACH;FMTTYPE=image/jpeg:https://spacecenter.org/wp-content/uploads/2022/10/Destiny-Theater.jpg
END:VEVENT
BEGIN:VEVENT
DTSTART;TZID=America/Chicago:20290825T103000
DTEND;TZID=America/Chicago:20290825T112000
DTSTAMP:20260423T184510
CREATED:20250602T215207Z
LAST-MODIFIED:20250603T184552Z
UID:10091844-1882348200-1882351200@spacecenter.org
SUMMARY:The Moonwalkers: A Journey with Tom Hanks
DESCRIPTION:
URL:https://spacecenter.org/events-calendar-event/the-moonwalkers-a-journey-with-tom-hanks/2029-08-25/
LOCATION:Theater – Space Center
CATEGORIES:Film
ATTACH;FMTTYPE=image/png:https://spacecenter.org/wp-content/uploads/2025/03/moonwalkers.png
END:VEVENT
BEGIN:VEVENT
DTSTART;TZID=America/Chicago:20290825T104500
DTEND;TZID=America/Chicago:20290825T110000
DTSTAMP:20260423T184510
CREATED:20250602T214618Z
LAST-MODIFIED:20250603T185541Z
UID:10106468-1882349100-1882350000@spacecenter.org
SUMMARY:Human Destiny Film
DESCRIPTION:
URL:https://spacecenter.org/events-calendar-event/human-destiny-film-3/2029-08-25/
LOCATION:Theater – Destiny
CATEGORIES:Film
ATTACH;FMTTYPE=image/jpeg:https://spacecenter.org/wp-content/uploads/2022/10/Destiny-Theater.jpg
END:VEVENT
BEGIN:VEVENT
DTSTART;TZID=America/Chicago:20290825T110000
DTEND;TZID=America/Chicago:20290825T111500
DTSTAMP:20260423T184510
CREATED:20250602T214802Z
LAST-MODIFIED:20250603T185720Z
UID:10113780-1882350000-1882350900@spacecenter.org
SUMMARY:Human Destiny Film
DESCRIPTION:
URL:https://spacecenter.org/events-calendar-event/human-destiny-film-4/2029-08-25/
LOCATION:Theater – Destiny
CATEGORIES:Film
ATTACH;FMTTYPE=image/jpeg:https://spacecenter.org/wp-content/uploads/2022/10/Destiny-Theater.jpg
END:VEVENT
BEGIN:VEVENT
DTSTART;TZID=America/Chicago:20290825T110000
DTEND;TZID=America/Chicago:20290825T114500
DTSTAMP:20260423T184510
CREATED:20250602T210952Z
LAST-MODIFIED:20250603T185820Z
UID:10117436-1882350000-1882352700@spacecenter.org
SUMMARY:Down to Earth: The Astronaut's Perspective Film
DESCRIPTION:
URL:https://spacecenter.org/events-calendar-event/down-to-earth-the-astronauts-perspective-film/2029-08-25/
LOCATION:Mission Briefing Center
CATEGORIES:Film
ATTACH;FMTTYPE=image/jpeg:https://spacecenter.org/wp-content/uploads/2025/02/profdeveducators1.jpg
END:VEVENT
BEGIN:VEVENT
DTSTART;TZID=America/Chicago:20290825T111500
DTEND;TZID=America/Chicago:20290825T113000
DTSTAMP:20260423T184510
CREATED:20250602T214855Z
LAST-MODIFIED:20250603T185944Z
UID:10124748-1882350900-1882351800@spacecenter.org
SUMMARY:Human Destiny Film
DESCRIPTION:
URL:https://spacecenter.org/events-calendar-event/human-destiny-film-5/2029-08-25/
LOCATION:Theater – Destiny
CATEGORIES:Film
ATTACH;FMTTYPE=image/jpeg:https://spacecenter.org/wp-content/uploads/2022/10/Destiny-Theater.jpg
END:VEVENT
BEGIN:VEVENT
DTSTART;TZID=America/Chicago:20290825T113000
DTEND;TZID=America/Chicago:20290825T114500
DTSTAMP:20260423T184510
CREATED:20250602T214945Z
LAST-MODIFIED:20250603T190019Z
UID:10128404-1882351800-1882352700@spacecenter.org
SUMMARY:Human Destiny Film
DESCRIPTION:
URL:https://spacecenter.org/events-calendar-event/human-destiny-film-6/2029-08-25/
LOCATION:Theater – Destiny
CATEGORIES:Film
ATTACH;FMTTYPE=image/jpeg:https://spacecenter.org/wp-content/uploads/2022/10/Destiny-Theater.jpg
END:VEVENT
BEGIN:VEVENT
DTSTART;TZID=America/Chicago:20290825T113000
DTEND;TZID=America/Chicago:20290825T122000
DTSTAMP:20260423T184510
CREATED:20250602T215324Z
LAST-MODIFIED:20250603T190108Z
UID:10132060-1882351800-1882354800@spacecenter.org
SUMMARY:The Moonwalkers: A Journey with Tom Hanks
DESCRIPTION:
URL:https://spacecenter.org/events-calendar-event/the-moonwalkers-a-journey-with-tom-hanks-2/2029-08-25/
LOCATION:Theater – Space Center
CATEGORIES:Film
ATTACH;FMTTYPE=image/png:https://spacecenter.org/wp-content/uploads/2025/03/moonwalkers.png
END:VEVENT
BEGIN:VEVENT
DTSTART;TZID=America/Chicago:20290825T123000
DTEND;TZID=America/Chicago:20290825T132000
DTSTAMP:20260423T184510
CREATED:20250602T215422Z
LAST-MODIFIED:20250603T190647Z
UID:10146684-1882355400-1882358400@spacecenter.org
SUMMARY:The Moonwalkers: A Journey with Tom Hanks
DESCRIPTION:
URL:https://spacecenter.org/events-calendar-event/the-moonwalkers-a-journey-with-tom-hanks-3/2029-08-25/
LOCATION:Theater – Space Center
CATEGORIES:Film
ATTACH;FMTTYPE=image/png:https://spacecenter.org/wp-content/uploads/2025/03/moonwalkers.png
END:VEVENT
BEGIN:VEVENT
DTSTART;TZID=America/Chicago:20290825T130000
DTEND;TZID=America/Chicago:20290825T134500
DTSTAMP:20260423T184510
CREATED:20250602T211211Z
LAST-MODIFIED:20250603T190850Z
UID:10157652-1882357200-1882359900@spacecenter.org
SUMMARY:Down to Earth: The Astronaut's Perspective Film
DESCRIPTION:
URL:https://spacecenter.org/events-calendar-event/down-to-earth-the-astronauts-perspective-film-2/2029-08-25/
LOCATION:Mission Briefing Center
CATEGORIES:Film
ATTACH;FMTTYPE=image/jpeg:https://spacecenter.org/wp-content/uploads/2025/02/profdeveducators1.jpg
END:VEVENT
BEGIN:VEVENT
DTSTART;TZID=America/Chicago:20290825T133000
DTEND;TZID=America/Chicago:20290825T142000
DTSTAMP:20260423T184510
CREATED:20250602T215510Z
LAST-MODIFIED:20250603T190957Z
UID:10164964-1882359000-1882362000@spacecenter.org
SUMMARY:The Moonwalkers: A Journey with Tom Hanks
DESCRIPTION:
URL:https://spacecenter.org/events-calendar-event/the-moonwalkers-a-journey-with-tom-hanks-4/2029-08-25/
LOCATION:Theater – Space Center
CATEGORIES:Film
ATTACH;FMTTYPE=image/png:https://spacecenter.org/wp-content/uploads/2025/03/moonwalkers.png
END:VEVENT
END:VCALENDAR