BEGIN:VCALENDAR
VERSION:2.0
PRODID:-//Space Center Houston - ECPv6.15.15//NONSGML v1.0//EN
CALSCALE:GREGORIAN
METHOD:PUBLISH
X-WR-CALNAME:Space Center Houston
X-ORIGINAL-URL:https://spacecenter.org
X-WR-CALDESC:Events for Space Center Houston
REFRESH-INTERVAL;VALUE=DURATION:PT1H
X-Robots-Tag:noindex
X-PUBLISHED-TTL:PT1H
BEGIN:VTIMEZONE
TZID:America/Chicago
BEGIN:DAYLIGHT
TZOFFSETFROM:-0600
TZOFFSETTO:-0500
TZNAME:CDT
DTSTART:20240310T080000
END:DAYLIGHT
BEGIN:STANDARD
TZOFFSETFROM:-0500
TZOFFSETTO:-0600
TZNAME:CST
DTSTART:20241103T070000
END:STANDARD
BEGIN:DAYLIGHT
TZOFFSETFROM:-0600
TZOFFSETTO:-0500
TZNAME:CDT
DTSTART:20250309T080000
END:DAYLIGHT
BEGIN:STANDARD
TZOFFSETFROM:-0500
TZOFFSETTO:-0600
TZNAME:CST
DTSTART:20251102T070000
END:STANDARD
BEGIN:DAYLIGHT
TZOFFSETFROM:-0600
TZOFFSETTO:-0500
TZNAME:CDT
DTSTART:20260308T080000
END:DAYLIGHT
BEGIN:STANDARD
TZOFFSETFROM:-0500
TZOFFSETTO:-0600
TZNAME:CST
DTSTART:20261101T070000
END:STANDARD
END:VTIMEZONE
BEGIN:VEVENT
DTSTART;TZID=America/Chicago:20250901T160000
DTEND;TZID=America/Chicago:20250901T164500
DTSTAMP:20260423T183144
CREATED:20250602T211841Z
LAST-MODIFIED:20250603T192151Z
UID:10211038-1756742400-1756745100@spacecenter.org
SUMMARY:Down to Earth: The Astronaut's Perspective Film
DESCRIPTION:
URL:https://spacecenter.org/events-calendar-event/down-to-earth-the-astronauts-perspective-film-5/2025-09-01/
LOCATION:Mission Briefing Center
CATEGORIES:Film
ATTACH;FMTTYPE=image/jpeg:https://spacecenter.org/wp-content/uploads/2025/02/profdeveducators1.jpg
END:VEVENT
BEGIN:VEVENT
DTSTART;TZID=America/Chicago:20250902T101500
DTEND;TZID=America/Chicago:20250902T103000
DTSTAMP:20260423T183144
CREATED:20250602T214310Z
LAST-MODIFIED:20250603T184018Z
UID:10083079-1756808100-1756809000@spacecenter.org
SUMMARY:Human Destiny Film
DESCRIPTION:
URL:https://spacecenter.org/events-calendar-event/human-destiny-film/2025-09-02/
LOCATION:Theater – Destiny
CATEGORIES:Film
ATTACH;FMTTYPE=image/jpeg:https://spacecenter.org/wp-content/uploads/2022/10/Destiny-Theater.jpg
END:VEVENT
BEGIN:VEVENT
DTSTART;TZID=America/Chicago:20250902T103000
DTEND;TZID=America/Chicago:20250902T104500
DTSTAMP:20260423T183144
CREATED:20250602T214417Z
LAST-MODIFIED:20250603T184348Z
UID:10086735-1756809000-1756809900@spacecenter.org
SUMMARY:Human Destiny Film
DESCRIPTION:
URL:https://spacecenter.org/events-calendar-event/human-destiny-film-2/2025-09-02/
LOCATION:Theater – Destiny
CATEGORIES:Film
ATTACH;FMTTYPE=image/jpeg:https://spacecenter.org/wp-content/uploads/2022/10/Destiny-Theater.jpg
END:VEVENT
BEGIN:VEVENT
DTSTART;TZID=America/Chicago:20250902T103000
DTEND;TZID=America/Chicago:20250902T112000
DTSTAMP:20260423T183144
CREATED:20250602T215207Z
LAST-MODIFIED:20250603T184552Z
UID:10090391-1756809000-1756812000@spacecenter.org
SUMMARY:The Moonwalkers: A Journey with Tom Hanks
DESCRIPTION:
URL:https://spacecenter.org/events-calendar-event/the-moonwalkers-a-journey-with-tom-hanks/2025-09-02/
LOCATION:Theater – Space Center
CATEGORIES:Film
ATTACH;FMTTYPE=image/png:https://spacecenter.org/wp-content/uploads/2025/03/moonwalkers.png
END:VEVENT
BEGIN:VEVENT
DTSTART;TZID=America/Chicago:20250902T104500
DTEND;TZID=America/Chicago:20250902T110000
DTSTAMP:20260423T183144
CREATED:20250602T214618Z
LAST-MODIFIED:20250603T185541Z
UID:10105015-1756809900-1756810800@spacecenter.org
SUMMARY:Human Destiny Film
DESCRIPTION:
URL:https://spacecenter.org/events-calendar-event/human-destiny-film-3/2025-09-02/
LOCATION:Theater – Destiny
CATEGORIES:Film
ATTACH;FMTTYPE=image/jpeg:https://spacecenter.org/wp-content/uploads/2022/10/Destiny-Theater.jpg
END:VEVENT
BEGIN:VEVENT
DTSTART;TZID=America/Chicago:20250902T110000
DTEND;TZID=America/Chicago:20250902T111500
DTSTAMP:20260423T183144
CREATED:20250602T214802Z
LAST-MODIFIED:20250603T185720Z
UID:10112327-1756810800-1756811700@spacecenter.org
SUMMARY:Human Destiny Film
DESCRIPTION:
URL:https://spacecenter.org/events-calendar-event/human-destiny-film-4/2025-09-02/
LOCATION:Theater – Destiny
CATEGORIES:Film
ATTACH;FMTTYPE=image/jpeg:https://spacecenter.org/wp-content/uploads/2022/10/Destiny-Theater.jpg
END:VEVENT
BEGIN:VEVENT
DTSTART;TZID=America/Chicago:20250902T110000
DTEND;TZID=America/Chicago:20250902T114500
DTSTAMP:20260423T183144
CREATED:20250602T210952Z
LAST-MODIFIED:20250603T185820Z
UID:10115983-1756810800-1756813500@spacecenter.org
SUMMARY:Down to Earth: The Astronaut's Perspective Film
DESCRIPTION:
URL:https://spacecenter.org/events-calendar-event/down-to-earth-the-astronauts-perspective-film/2025-09-02/
LOCATION:Mission Briefing Center
CATEGORIES:Film
ATTACH;FMTTYPE=image/jpeg:https://spacecenter.org/wp-content/uploads/2025/02/profdeveducators1.jpg
END:VEVENT
BEGIN:VEVENT
DTSTART;TZID=America/Chicago:20250902T111500
DTEND;TZID=America/Chicago:20250902T113000
DTSTAMP:20260423T183144
CREATED:20250602T214855Z
LAST-MODIFIED:20250603T185944Z
UID:10123295-1756811700-1756812600@spacecenter.org
SUMMARY:Human Destiny Film
DESCRIPTION:
URL:https://spacecenter.org/events-calendar-event/human-destiny-film-5/2025-09-02/
LOCATION:Theater – Destiny
CATEGORIES:Film
ATTACH;FMTTYPE=image/jpeg:https://spacecenter.org/wp-content/uploads/2022/10/Destiny-Theater.jpg
END:VEVENT
BEGIN:VEVENT
DTSTART;TZID=America/Chicago:20250902T113000
DTEND;TZID=America/Chicago:20250902T114500
DTSTAMP:20260423T183144
CREATED:20250602T214945Z
LAST-MODIFIED:20250603T190019Z
UID:10126951-1756812600-1756813500@spacecenter.org
SUMMARY:Human Destiny Film
DESCRIPTION:
URL:https://spacecenter.org/events-calendar-event/human-destiny-film-6/2025-09-02/
LOCATION:Theater – Destiny
CATEGORIES:Film
ATTACH;FMTTYPE=image/jpeg:https://spacecenter.org/wp-content/uploads/2022/10/Destiny-Theater.jpg
END:VEVENT
BEGIN:VEVENT
DTSTART;TZID=America/Chicago:20250902T113000
DTEND;TZID=America/Chicago:20250902T122000
DTSTAMP:20260423T183144
CREATED:20250602T215324Z
LAST-MODIFIED:20250603T190108Z
UID:10130607-1756812600-1756815600@spacecenter.org
SUMMARY:The Moonwalkers: A Journey with Tom Hanks
DESCRIPTION:
URL:https://spacecenter.org/events-calendar-event/the-moonwalkers-a-journey-with-tom-hanks-2/2025-09-02/
LOCATION:Theater – Space Center
CATEGORIES:Film
ATTACH;FMTTYPE=image/png:https://spacecenter.org/wp-content/uploads/2025/03/moonwalkers.png
END:VEVENT
BEGIN:VEVENT
DTSTART;TZID=America/Chicago:20250902T123000
DTEND;TZID=America/Chicago:20250902T132000
DTSTAMP:20260423T183144
CREATED:20250602T215422Z
LAST-MODIFIED:20250603T190647Z
UID:10145231-1756816200-1756819200@spacecenter.org
SUMMARY:The Moonwalkers: A Journey with Tom Hanks
DESCRIPTION:
URL:https://spacecenter.org/events-calendar-event/the-moonwalkers-a-journey-with-tom-hanks-3/2025-09-02/
LOCATION:Theater – Space Center
CATEGORIES:Film
ATTACH;FMTTYPE=image/png:https://spacecenter.org/wp-content/uploads/2025/03/moonwalkers.png
END:VEVENT
BEGIN:VEVENT
DTSTART;TZID=America/Chicago:20250902T130000
DTEND;TZID=America/Chicago:20250902T134500
DTSTAMP:20260423T183144
CREATED:20250602T211211Z
LAST-MODIFIED:20250603T190850Z
UID:10156199-1756818000-1756820700@spacecenter.org
SUMMARY:Down to Earth: The Astronaut's Perspective Film
DESCRIPTION:
URL:https://spacecenter.org/events-calendar-event/down-to-earth-the-astronauts-perspective-film-2/2025-09-02/
LOCATION:Mission Briefing Center
CATEGORIES:Film
ATTACH;FMTTYPE=image/jpeg:https://spacecenter.org/wp-content/uploads/2025/02/profdeveducators1.jpg
END:VEVENT
BEGIN:VEVENT
DTSTART;TZID=America/Chicago:20250902T133000
DTEND;TZID=America/Chicago:20250902T142000
DTSTAMP:20260423T183144
CREATED:20250602T215510Z
LAST-MODIFIED:20250603T190957Z
UID:10163511-1756819800-1756822800@spacecenter.org
SUMMARY:The Moonwalkers: A Journey with Tom Hanks
DESCRIPTION:
URL:https://spacecenter.org/events-calendar-event/the-moonwalkers-a-journey-with-tom-hanks-4/2025-09-02/
LOCATION:Theater – Space Center
CATEGORIES:Film
ATTACH;FMTTYPE=image/png:https://spacecenter.org/wp-content/uploads/2025/03/moonwalkers.png
END:VEVENT
BEGIN:VEVENT
DTSTART;TZID=America/Chicago:20250902T140000
DTEND;TZID=America/Chicago:20250902T144500
DTSTAMP:20260423T183144
CREATED:20250602T211401Z
LAST-MODIFIED:20250603T191451Z
UID:10178135-1756821600-1756824300@spacecenter.org
SUMMARY:Down to Earth: The Astronaut's Perspective Film
DESCRIPTION:
URL:https://spacecenter.org/events-calendar-event/down-to-earth-the-astronauts-perspective-film-3/2025-09-02/
LOCATION:Mission Briefing Center
CATEGORIES:Film
ATTACH;FMTTYPE=image/jpeg:https://spacecenter.org/wp-content/uploads/2025/02/profdeveducators1.jpg
END:VEVENT
BEGIN:VEVENT
DTSTART;TZID=America/Chicago:20250902T143000
DTEND;TZID=America/Chicago:20250902T152000
DTSTAMP:20260423T183144
CREATED:20250602T215601Z
LAST-MODIFIED:20250603T191630Z
UID:10181791-1756823400-1756826400@spacecenter.org
SUMMARY:The Moonwalkers: A Journey with Tom Hanks
DESCRIPTION:
URL:https://spacecenter.org/events-calendar-event/the-moonwalkers-a-journey-with-tom-hanks-5/2025-09-02/
LOCATION:Theater – Space Center
CATEGORIES:Film
ATTACH;FMTTYPE=image/png:https://spacecenter.org/wp-content/uploads/2025/03/moonwalkers.png
END:VEVENT
BEGIN:VEVENT
DTSTART;TZID=America/Chicago:20250902T150000
DTEND;TZID=America/Chicago:20250902T154500
DTSTAMP:20260423T183144
CREATED:20250602T211753Z
LAST-MODIFIED:20250603T191844Z
UID:10192759-1756825200-1756827900@spacecenter.org
SUMMARY:Down to Earth: The Astronaut's Perspective Film
DESCRIPTION:
URL:https://spacecenter.org/events-calendar-event/down-to-earth-the-astronauts-perspective-film-4/2025-09-02/
LOCATION:Mission Briefing Center
CATEGORIES:Film
ATTACH;FMTTYPE=image/jpeg:https://spacecenter.org/wp-content/uploads/2025/02/profdeveducators1.jpg
END:VEVENT
BEGIN:VEVENT
DTSTART;TZID=America/Chicago:20250902T153000
DTEND;TZID=America/Chicago:20250902T162000
DTSTAMP:20260423T183144
CREATED:20250602T215646Z
LAST-MODIFIED:20260115T171957Z
UID:10200071-1756827000-1756830000@spacecenter.org
SUMMARY:The Moonwalkers: A Journey with Tom Hanks
DESCRIPTION:Test description
URL:https://spacecenter.org/events-calendar-event/the-moonwalkers-a-journey-with-tom-hanks-6/2025-09-02/
LOCATION:Theater – Space Center
CATEGORIES:Film
ATTACH;FMTTYPE=image/png:https://spacecenter.org/wp-content/uploads/2025/03/moonwalkers.png
END:VEVENT
BEGIN:VEVENT
DTSTART;TZID=America/Chicago:20250902T160000
DTEND;TZID=America/Chicago:20250902T164500
DTSTAMP:20260423T183144
CREATED:20250602T211841Z
LAST-MODIFIED:20250603T192151Z
UID:10211039-1756828800-1756831500@spacecenter.org
SUMMARY:Down to Earth: The Astronaut's Perspective Film
DESCRIPTION:
URL:https://spacecenter.org/events-calendar-event/down-to-earth-the-astronauts-perspective-film-5/2025-09-02/
LOCATION:Mission Briefing Center
CATEGORIES:Film
ATTACH;FMTTYPE=image/jpeg:https://spacecenter.org/wp-content/uploads/2025/02/profdeveducators1.jpg
END:VEVENT
BEGIN:VEVENT
DTSTART;TZID=America/Chicago:20250903T101500
DTEND;TZID=America/Chicago:20250903T103000
DTSTAMP:20260423T183144
CREATED:20250602T214310Z
LAST-MODIFIED:20250603T184018Z
UID:10083080-1756894500-1756895400@spacecenter.org
SUMMARY:Human Destiny Film
DESCRIPTION:
URL:https://spacecenter.org/events-calendar-event/human-destiny-film/2025-09-03/
LOCATION:Theater – Destiny
CATEGORIES:Film
ATTACH;FMTTYPE=image/jpeg:https://spacecenter.org/wp-content/uploads/2022/10/Destiny-Theater.jpg
END:VEVENT
BEGIN:VEVENT
DTSTART;TZID=America/Chicago:20250903T103000
DTEND;TZID=America/Chicago:20250903T104500
DTSTAMP:20260423T183144
CREATED:20250602T214417Z
LAST-MODIFIED:20250603T184348Z
UID:10086736-1756895400-1756896300@spacecenter.org
SUMMARY:Human Destiny Film
DESCRIPTION:
URL:https://spacecenter.org/events-calendar-event/human-destiny-film-2/2025-09-03/
LOCATION:Theater – Destiny
CATEGORIES:Film
ATTACH;FMTTYPE=image/jpeg:https://spacecenter.org/wp-content/uploads/2022/10/Destiny-Theater.jpg
END:VEVENT
BEGIN:VEVENT
DTSTART;TZID=America/Chicago:20250903T103000
DTEND;TZID=America/Chicago:20250903T112000
DTSTAMP:20260423T183144
CREATED:20250602T215207Z
LAST-MODIFIED:20250603T184552Z
UID:10090392-1756895400-1756898400@spacecenter.org
SUMMARY:The Moonwalkers: A Journey with Tom Hanks
DESCRIPTION:
URL:https://spacecenter.org/events-calendar-event/the-moonwalkers-a-journey-with-tom-hanks/2025-09-03/
LOCATION:Theater – Space Center
CATEGORIES:Film
ATTACH;FMTTYPE=image/png:https://spacecenter.org/wp-content/uploads/2025/03/moonwalkers.png
END:VEVENT
BEGIN:VEVENT
DTSTART;TZID=America/Chicago:20250903T104500
DTEND;TZID=America/Chicago:20250903T110000
DTSTAMP:20260423T183144
CREATED:20250602T214618Z
LAST-MODIFIED:20250603T185541Z
UID:10105016-1756896300-1756897200@spacecenter.org
SUMMARY:Human Destiny Film
DESCRIPTION:
URL:https://spacecenter.org/events-calendar-event/human-destiny-film-3/2025-09-03/
LOCATION:Theater – Destiny
CATEGORIES:Film
ATTACH;FMTTYPE=image/jpeg:https://spacecenter.org/wp-content/uploads/2022/10/Destiny-Theater.jpg
END:VEVENT
BEGIN:VEVENT
DTSTART;TZID=America/Chicago:20250903T110000
DTEND;TZID=America/Chicago:20250903T111500
DTSTAMP:20260423T183144
CREATED:20250602T214802Z
LAST-MODIFIED:20250603T185720Z
UID:10112328-1756897200-1756898100@spacecenter.org
SUMMARY:Human Destiny Film
DESCRIPTION:
URL:https://spacecenter.org/events-calendar-event/human-destiny-film-4/2025-09-03/
LOCATION:Theater – Destiny
CATEGORIES:Film
ATTACH;FMTTYPE=image/jpeg:https://spacecenter.org/wp-content/uploads/2022/10/Destiny-Theater.jpg
END:VEVENT
BEGIN:VEVENT
DTSTART;TZID=America/Chicago:20250903T110000
DTEND;TZID=America/Chicago:20250903T114500
DTSTAMP:20260423T183144
CREATED:20250602T210952Z
LAST-MODIFIED:20250603T185820Z
UID:10115984-1756897200-1756899900@spacecenter.org
SUMMARY:Down to Earth: The Astronaut's Perspective Film
DESCRIPTION:
URL:https://spacecenter.org/events-calendar-event/down-to-earth-the-astronauts-perspective-film/2025-09-03/
LOCATION:Mission Briefing Center
CATEGORIES:Film
ATTACH;FMTTYPE=image/jpeg:https://spacecenter.org/wp-content/uploads/2025/02/profdeveducators1.jpg
END:VEVENT
BEGIN:VEVENT
DTSTART;TZID=America/Chicago:20250903T111500
DTEND;TZID=America/Chicago:20250903T113000
DTSTAMP:20260423T183144
CREATED:20250602T214855Z
LAST-MODIFIED:20250603T185944Z
UID:10123296-1756898100-1756899000@spacecenter.org
SUMMARY:Human Destiny Film
DESCRIPTION:
URL:https://spacecenter.org/events-calendar-event/human-destiny-film-5/2025-09-03/
LOCATION:Theater – Destiny
CATEGORIES:Film
ATTACH;FMTTYPE=image/jpeg:https://spacecenter.org/wp-content/uploads/2022/10/Destiny-Theater.jpg
END:VEVENT
BEGIN:VEVENT
DTSTART;TZID=America/Chicago:20250903T113000
DTEND;TZID=America/Chicago:20250903T114500
DTSTAMP:20260423T183144
CREATED:20250602T214945Z
LAST-MODIFIED:20250603T190019Z
UID:10126952-1756899000-1756899900@spacecenter.org
SUMMARY:Human Destiny Film
DESCRIPTION:
URL:https://spacecenter.org/events-calendar-event/human-destiny-film-6/2025-09-03/
LOCATION:Theater – Destiny
CATEGORIES:Film
ATTACH;FMTTYPE=image/jpeg:https://spacecenter.org/wp-content/uploads/2022/10/Destiny-Theater.jpg
END:VEVENT
BEGIN:VEVENT
DTSTART;TZID=America/Chicago:20250903T113000
DTEND;TZID=America/Chicago:20250903T122000
DTSTAMP:20260423T183144
CREATED:20250602T215324Z
LAST-MODIFIED:20250603T190108Z
UID:10130608-1756899000-1756902000@spacecenter.org
SUMMARY:The Moonwalkers: A Journey with Tom Hanks
DESCRIPTION:
URL:https://spacecenter.org/events-calendar-event/the-moonwalkers-a-journey-with-tom-hanks-2/2025-09-03/
LOCATION:Theater – Space Center
CATEGORIES:Film
ATTACH;FMTTYPE=image/png:https://spacecenter.org/wp-content/uploads/2025/03/moonwalkers.png
END:VEVENT
BEGIN:VEVENT
DTSTART;TZID=America/Chicago:20250903T123000
DTEND;TZID=America/Chicago:20250903T132000
DTSTAMP:20260423T183144
CREATED:20250602T215422Z
LAST-MODIFIED:20250603T190647Z
UID:10145232-1756902600-1756905600@spacecenter.org
SUMMARY:The Moonwalkers: A Journey with Tom Hanks
DESCRIPTION:
URL:https://spacecenter.org/events-calendar-event/the-moonwalkers-a-journey-with-tom-hanks-3/2025-09-03/
LOCATION:Theater – Space Center
CATEGORIES:Film
ATTACH;FMTTYPE=image/png:https://spacecenter.org/wp-content/uploads/2025/03/moonwalkers.png
END:VEVENT
BEGIN:VEVENT
DTSTART;TZID=America/Chicago:20250903T130000
DTEND;TZID=America/Chicago:20250903T134500
DTSTAMP:20260423T183144
CREATED:20250602T211211Z
LAST-MODIFIED:20250603T190850Z
UID:10156200-1756904400-1756907100@spacecenter.org
SUMMARY:Down to Earth: The Astronaut's Perspective Film
DESCRIPTION:
URL:https://spacecenter.org/events-calendar-event/down-to-earth-the-astronauts-perspective-film-2/2025-09-03/
LOCATION:Mission Briefing Center
CATEGORIES:Film
ATTACH;FMTTYPE=image/jpeg:https://spacecenter.org/wp-content/uploads/2025/02/profdeveducators1.jpg
END:VEVENT
BEGIN:VEVENT
DTSTART;TZID=America/Chicago:20250903T133000
DTEND;TZID=America/Chicago:20250903T142000
DTSTAMP:20260423T183144
CREATED:20250602T215510Z
LAST-MODIFIED:20250603T190957Z
UID:10163512-1756906200-1756909200@spacecenter.org
SUMMARY:The Moonwalkers: A Journey with Tom Hanks
DESCRIPTION:
URL:https://spacecenter.org/events-calendar-event/the-moonwalkers-a-journey-with-tom-hanks-4/2025-09-03/
LOCATION:Theater – Space Center
CATEGORIES:Film
ATTACH;FMTTYPE=image/png:https://spacecenter.org/wp-content/uploads/2025/03/moonwalkers.png
END:VEVENT
END:VCALENDAR