BEGIN:VCALENDAR
VERSION:2.0
PRODID:-//Space Center Houston - ECPv6.15.15//NONSGML v1.0//EN
CALSCALE:GREGORIAN
METHOD:PUBLISH
X-ORIGINAL-URL:https://spacecenter.org
X-WR-CALDESC:Events for Space Center Houston
REFRESH-INTERVAL;VALUE=DURATION:PT1H
X-Robots-Tag:noindex
X-PUBLISHED-TTL:PT1H
BEGIN:VTIMEZONE
TZID:America/Chicago
BEGIN:DAYLIGHT
TZOFFSETFROM:-0600
TZOFFSETTO:-0500
TZNAME:CDT
DTSTART:20240310T080000
END:DAYLIGHT
BEGIN:STANDARD
TZOFFSETFROM:-0500
TZOFFSETTO:-0600
TZNAME:CST
DTSTART:20241103T070000
END:STANDARD
BEGIN:DAYLIGHT
TZOFFSETFROM:-0600
TZOFFSETTO:-0500
TZNAME:CDT
DTSTART:20250309T080000
END:DAYLIGHT
BEGIN:STANDARD
TZOFFSETFROM:-0500
TZOFFSETTO:-0600
TZNAME:CST
DTSTART:20251102T070000
END:STANDARD
BEGIN:DAYLIGHT
TZOFFSETFROM:-0600
TZOFFSETTO:-0500
TZNAME:CDT
DTSTART:20260308T080000
END:DAYLIGHT
BEGIN:STANDARD
TZOFFSETFROM:-0500
TZOFFSETTO:-0600
TZNAME:CST
DTSTART:20261101T070000
END:STANDARD
END:VTIMEZONE
BEGIN:VEVENT
DTSTART;TZID=America/Chicago:20250827T103000
DTEND;TZID=America/Chicago:20250827T104500
DTSTAMP:20260423T042146
CREATED:20250602T214417Z
LAST-MODIFIED:20250603T184348Z
UID:10086729-1756290600-1756291500@spacecenter.org
SUMMARY:Human Destiny Film
DESCRIPTION:
URL:https://spacecenter.org/events-calendar-event/human-destiny-film-2/2025-08-27/
LOCATION:Theater – Destiny
CATEGORIES:Film
ATTACH;FMTTYPE=image/jpeg:https://spacecenter.org/wp-content/uploads/2022/10/Destiny-Theater.jpg
END:VEVENT
BEGIN:VEVENT
DTSTART;TZID=America/Chicago:20250827T103000
DTEND;TZID=America/Chicago:20250827T112000
DTSTAMP:20260423T042146
CREATED:20250602T215207Z
LAST-MODIFIED:20250603T184552Z
UID:10090385-1756290600-1756293600@spacecenter.org
SUMMARY:The Moonwalkers: A Journey with Tom Hanks
DESCRIPTION:
URL:https://spacecenter.org/events-calendar-event/the-moonwalkers-a-journey-with-tom-hanks/2025-08-27/
LOCATION:Theater – Space Center
CATEGORIES:Film
ATTACH;FMTTYPE=image/png:https://spacecenter.org/wp-content/uploads/2025/03/moonwalkers.png
END:VEVENT
BEGIN:VEVENT
DTSTART;TZID=America/Chicago:20250827T104500
DTEND;TZID=America/Chicago:20250827T110000
DTSTAMP:20260423T042146
CREATED:20250602T214618Z
LAST-MODIFIED:20250603T185541Z
UID:10105009-1756291500-1756292400@spacecenter.org
SUMMARY:Human Destiny Film
DESCRIPTION:
URL:https://spacecenter.org/events-calendar-event/human-destiny-film-3/2025-08-27/
LOCATION:Theater – Destiny
CATEGORIES:Film
ATTACH;FMTTYPE=image/jpeg:https://spacecenter.org/wp-content/uploads/2022/10/Destiny-Theater.jpg
END:VEVENT
BEGIN:VEVENT
DTSTART;TZID=America/Chicago:20250827T110000
DTEND;TZID=America/Chicago:20250827T111500
DTSTAMP:20260423T042146
CREATED:20250602T214802Z
LAST-MODIFIED:20250603T185720Z
UID:10112321-1756292400-1756293300@spacecenter.org
SUMMARY:Human Destiny Film
DESCRIPTION:
URL:https://spacecenter.org/events-calendar-event/human-destiny-film-4/2025-08-27/
LOCATION:Theater – Destiny
CATEGORIES:Film
ATTACH;FMTTYPE=image/jpeg:https://spacecenter.org/wp-content/uploads/2022/10/Destiny-Theater.jpg
END:VEVENT
BEGIN:VEVENT
DTSTART;TZID=America/Chicago:20250827T110000
DTEND;TZID=America/Chicago:20250827T114500
DTSTAMP:20260423T042146
CREATED:20250602T210952Z
LAST-MODIFIED:20250603T185820Z
UID:10115977-1756292400-1756295100@spacecenter.org
SUMMARY:Down to Earth: The Astronaut's Perspective Film
DESCRIPTION:
URL:https://spacecenter.org/events-calendar-event/down-to-earth-the-astronauts-perspective-film/2025-08-27/
LOCATION:Mission Briefing Center
CATEGORIES:Film
ATTACH;FMTTYPE=image/jpeg:https://spacecenter.org/wp-content/uploads/2025/02/profdeveducators1.jpg
END:VEVENT
BEGIN:VEVENT
DTSTART;TZID=America/Chicago:20250827T111500
DTEND;TZID=America/Chicago:20250827T113000
DTSTAMP:20260423T042146
CREATED:20250602T214855Z
LAST-MODIFIED:20250603T185944Z
UID:10123289-1756293300-1756294200@spacecenter.org
SUMMARY:Human Destiny Film
DESCRIPTION:
URL:https://spacecenter.org/events-calendar-event/human-destiny-film-5/2025-08-27/
LOCATION:Theater – Destiny
CATEGORIES:Film
ATTACH;FMTTYPE=image/jpeg:https://spacecenter.org/wp-content/uploads/2022/10/Destiny-Theater.jpg
END:VEVENT
BEGIN:VEVENT
DTSTART;TZID=America/Chicago:20250827T113000
DTEND;TZID=America/Chicago:20250827T114500
DTSTAMP:20260423T042146
CREATED:20250602T214945Z
LAST-MODIFIED:20250603T190019Z
UID:10126945-1756294200-1756295100@spacecenter.org
SUMMARY:Human Destiny Film
DESCRIPTION:
URL:https://spacecenter.org/events-calendar-event/human-destiny-film-6/2025-08-27/
LOCATION:Theater – Destiny
CATEGORIES:Film
ATTACH;FMTTYPE=image/jpeg:https://spacecenter.org/wp-content/uploads/2022/10/Destiny-Theater.jpg
END:VEVENT
BEGIN:VEVENT
DTSTART;TZID=America/Chicago:20250827T113000
DTEND;TZID=America/Chicago:20250827T122000
DTSTAMP:20260423T042146
CREATED:20250602T215324Z
LAST-MODIFIED:20250603T190108Z
UID:10130601-1756294200-1756297200@spacecenter.org
SUMMARY:The Moonwalkers: A Journey with Tom Hanks
DESCRIPTION:
URL:https://spacecenter.org/events-calendar-event/the-moonwalkers-a-journey-with-tom-hanks-2/2025-08-27/
LOCATION:Theater – Space Center
CATEGORIES:Film
ATTACH;FMTTYPE=image/png:https://spacecenter.org/wp-content/uploads/2025/03/moonwalkers.png
END:VEVENT
BEGIN:VEVENT
DTSTART;TZID=America/Chicago:20250827T123000
DTEND;TZID=America/Chicago:20250827T132000
DTSTAMP:20260423T042146
CREATED:20250602T215422Z
LAST-MODIFIED:20250603T190647Z
UID:10145225-1756297800-1756300800@spacecenter.org
SUMMARY:The Moonwalkers: A Journey with Tom Hanks
DESCRIPTION:
URL:https://spacecenter.org/events-calendar-event/the-moonwalkers-a-journey-with-tom-hanks-3/2025-08-27/
LOCATION:Theater – Space Center
CATEGORIES:Film
ATTACH;FMTTYPE=image/png:https://spacecenter.org/wp-content/uploads/2025/03/moonwalkers.png
END:VEVENT
BEGIN:VEVENT
DTSTART;TZID=America/Chicago:20250827T130000
DTEND;TZID=America/Chicago:20250827T134500
DTSTAMP:20260423T042146
CREATED:20250602T211211Z
LAST-MODIFIED:20250603T190850Z
UID:10156193-1756299600-1756302300@spacecenter.org
SUMMARY:Down to Earth: The Astronaut's Perspective Film
DESCRIPTION:
URL:https://spacecenter.org/events-calendar-event/down-to-earth-the-astronauts-perspective-film-2/2025-08-27/
LOCATION:Mission Briefing Center
CATEGORIES:Film
ATTACH;FMTTYPE=image/jpeg:https://spacecenter.org/wp-content/uploads/2025/02/profdeveducators1.jpg
END:VEVENT
BEGIN:VEVENT
DTSTART;TZID=America/Chicago:20250827T133000
DTEND;TZID=America/Chicago:20250827T142000
DTSTAMP:20260423T042146
CREATED:20250602T215510Z
LAST-MODIFIED:20250603T190957Z
UID:10163505-1756301400-1756304400@spacecenter.org
SUMMARY:The Moonwalkers: A Journey with Tom Hanks
DESCRIPTION:
URL:https://spacecenter.org/events-calendar-event/the-moonwalkers-a-journey-with-tom-hanks-4/2025-08-27/
LOCATION:Theater – Space Center
CATEGORIES:Film
ATTACH;FMTTYPE=image/png:https://spacecenter.org/wp-content/uploads/2025/03/moonwalkers.png
END:VEVENT
BEGIN:VEVENT
DTSTART;TZID=America/Chicago:20250827T140000
DTEND;TZID=America/Chicago:20250827T144500
DTSTAMP:20260423T042146
CREATED:20250602T211401Z
LAST-MODIFIED:20250603T191451Z
UID:10178129-1756303200-1756305900@spacecenter.org
SUMMARY:Down to Earth: The Astronaut's Perspective Film
DESCRIPTION:
URL:https://spacecenter.org/events-calendar-event/down-to-earth-the-astronauts-perspective-film-3/2025-08-27/
LOCATION:Mission Briefing Center
CATEGORIES:Film
ATTACH;FMTTYPE=image/jpeg:https://spacecenter.org/wp-content/uploads/2025/02/profdeveducators1.jpg
END:VEVENT
BEGIN:VEVENT
DTSTART;TZID=America/Chicago:20250827T143000
DTEND;TZID=America/Chicago:20250827T152000
DTSTAMP:20260423T042146
CREATED:20250602T215601Z
LAST-MODIFIED:20250603T191630Z
UID:10181785-1756305000-1756308000@spacecenter.org
SUMMARY:The Moonwalkers: A Journey with Tom Hanks
DESCRIPTION:
URL:https://spacecenter.org/events-calendar-event/the-moonwalkers-a-journey-with-tom-hanks-5/2025-08-27/
LOCATION:Theater – Space Center
CATEGORIES:Film
ATTACH;FMTTYPE=image/png:https://spacecenter.org/wp-content/uploads/2025/03/moonwalkers.png
END:VEVENT
BEGIN:VEVENT
DTSTART;TZID=America/Chicago:20250827T150000
DTEND;TZID=America/Chicago:20250827T154500
DTSTAMP:20260423T042146
CREATED:20250602T211753Z
LAST-MODIFIED:20250603T191844Z
UID:10192753-1756306800-1756309500@spacecenter.org
SUMMARY:Down to Earth: The Astronaut's Perspective Film
DESCRIPTION:
URL:https://spacecenter.org/events-calendar-event/down-to-earth-the-astronauts-perspective-film-4/2025-08-27/
LOCATION:Mission Briefing Center
CATEGORIES:Film
ATTACH;FMTTYPE=image/jpeg:https://spacecenter.org/wp-content/uploads/2025/02/profdeveducators1.jpg
END:VEVENT
BEGIN:VEVENT
DTSTART;TZID=America/Chicago:20250827T153000
DTEND;TZID=America/Chicago:20250827T162000
DTSTAMP:20260423T042146
CREATED:20250602T215646Z
LAST-MODIFIED:20260115T171957Z
UID:10200065-1756308600-1756311600@spacecenter.org
SUMMARY:The Moonwalkers: A Journey with Tom Hanks
DESCRIPTION:Test description
URL:https://spacecenter.org/events-calendar-event/the-moonwalkers-a-journey-with-tom-hanks-6/2025-08-27/
LOCATION:Theater – Space Center
CATEGORIES:Film
ATTACH;FMTTYPE=image/png:https://spacecenter.org/wp-content/uploads/2025/03/moonwalkers.png
END:VEVENT
BEGIN:VEVENT
DTSTART;TZID=America/Chicago:20250827T160000
DTEND;TZID=America/Chicago:20250827T164500
DTSTAMP:20260423T042146
CREATED:20250602T211841Z
LAST-MODIFIED:20250603T192151Z
UID:10211033-1756310400-1756313100@spacecenter.org
SUMMARY:Down to Earth: The Astronaut's Perspective Film
DESCRIPTION:
URL:https://spacecenter.org/events-calendar-event/down-to-earth-the-astronauts-perspective-film-5/2025-08-27/
LOCATION:Mission Briefing Center
CATEGORIES:Film
ATTACH;FMTTYPE=image/jpeg:https://spacecenter.org/wp-content/uploads/2025/02/profdeveducators1.jpg
END:VEVENT
BEGIN:VEVENT
DTSTART;TZID=America/Chicago:20250828T101500
DTEND;TZID=America/Chicago:20250828T103000
DTSTAMP:20260423T042146
CREATED:20250602T214310Z
LAST-MODIFIED:20250603T184018Z
UID:10083074-1756376100-1756377000@spacecenter.org
SUMMARY:Human Destiny Film
DESCRIPTION:
URL:https://spacecenter.org/events-calendar-event/human-destiny-film/2025-08-28/
LOCATION:Theater – Destiny
CATEGORIES:Film
ATTACH;FMTTYPE=image/jpeg:https://spacecenter.org/wp-content/uploads/2022/10/Destiny-Theater.jpg
END:VEVENT
BEGIN:VEVENT
DTSTART;TZID=America/Chicago:20250828T103000
DTEND;TZID=America/Chicago:20250828T104500
DTSTAMP:20260423T042146
CREATED:20250602T214417Z
LAST-MODIFIED:20250603T184348Z
UID:10086730-1756377000-1756377900@spacecenter.org
SUMMARY:Human Destiny Film
DESCRIPTION:
URL:https://spacecenter.org/events-calendar-event/human-destiny-film-2/2025-08-28/
LOCATION:Theater – Destiny
CATEGORIES:Film
ATTACH;FMTTYPE=image/jpeg:https://spacecenter.org/wp-content/uploads/2022/10/Destiny-Theater.jpg
END:VEVENT
BEGIN:VEVENT
DTSTART;TZID=America/Chicago:20250828T103000
DTEND;TZID=America/Chicago:20250828T112000
DTSTAMP:20260423T042146
CREATED:20250602T215207Z
LAST-MODIFIED:20250603T184552Z
UID:10090386-1756377000-1756380000@spacecenter.org
SUMMARY:The Moonwalkers: A Journey with Tom Hanks
DESCRIPTION:
URL:https://spacecenter.org/events-calendar-event/the-moonwalkers-a-journey-with-tom-hanks/2025-08-28/
LOCATION:Theater – Space Center
CATEGORIES:Film
ATTACH;FMTTYPE=image/png:https://spacecenter.org/wp-content/uploads/2025/03/moonwalkers.png
END:VEVENT
BEGIN:VEVENT
DTSTART;TZID=America/Chicago:20250828T104500
DTEND;TZID=America/Chicago:20250828T110000
DTSTAMP:20260423T042146
CREATED:20250602T214618Z
LAST-MODIFIED:20250603T185541Z
UID:10105010-1756377900-1756378800@spacecenter.org
SUMMARY:Human Destiny Film
DESCRIPTION:
URL:https://spacecenter.org/events-calendar-event/human-destiny-film-3/2025-08-28/
LOCATION:Theater – Destiny
CATEGORIES:Film
ATTACH;FMTTYPE=image/jpeg:https://spacecenter.org/wp-content/uploads/2022/10/Destiny-Theater.jpg
END:VEVENT
BEGIN:VEVENT
DTSTART;TZID=America/Chicago:20250828T110000
DTEND;TZID=America/Chicago:20250828T111500
DTSTAMP:20260423T042146
CREATED:20250602T214802Z
LAST-MODIFIED:20250603T185720Z
UID:10112322-1756378800-1756379700@spacecenter.org
SUMMARY:Human Destiny Film
DESCRIPTION:
URL:https://spacecenter.org/events-calendar-event/human-destiny-film-4/2025-08-28/
LOCATION:Theater – Destiny
CATEGORIES:Film
ATTACH;FMTTYPE=image/jpeg:https://spacecenter.org/wp-content/uploads/2022/10/Destiny-Theater.jpg
END:VEVENT
BEGIN:VEVENT
DTSTART;TZID=America/Chicago:20250828T110000
DTEND;TZID=America/Chicago:20250828T114500
DTSTAMP:20260423T042146
CREATED:20250602T210952Z
LAST-MODIFIED:20250603T185820Z
UID:10115978-1756378800-1756381500@spacecenter.org
SUMMARY:Down to Earth: The Astronaut's Perspective Film
DESCRIPTION:
URL:https://spacecenter.org/events-calendar-event/down-to-earth-the-astronauts-perspective-film/2025-08-28/
LOCATION:Mission Briefing Center
CATEGORIES:Film
ATTACH;FMTTYPE=image/jpeg:https://spacecenter.org/wp-content/uploads/2025/02/profdeveducators1.jpg
END:VEVENT
BEGIN:VEVENT
DTSTART;TZID=America/Chicago:20250828T111500
DTEND;TZID=America/Chicago:20250828T113000
DTSTAMP:20260423T042146
CREATED:20250602T214855Z
LAST-MODIFIED:20250603T185944Z
UID:10123290-1756379700-1756380600@spacecenter.org
SUMMARY:Human Destiny Film
DESCRIPTION:
URL:https://spacecenter.org/events-calendar-event/human-destiny-film-5/2025-08-28/
LOCATION:Theater – Destiny
CATEGORIES:Film
ATTACH;FMTTYPE=image/jpeg:https://spacecenter.org/wp-content/uploads/2022/10/Destiny-Theater.jpg
END:VEVENT
BEGIN:VEVENT
DTSTART;TZID=America/Chicago:20250828T113000
DTEND;TZID=America/Chicago:20250828T114500
DTSTAMP:20260423T042146
CREATED:20250602T214945Z
LAST-MODIFIED:20250603T190019Z
UID:10126946-1756380600-1756381500@spacecenter.org
SUMMARY:Human Destiny Film
DESCRIPTION:
URL:https://spacecenter.org/events-calendar-event/human-destiny-film-6/2025-08-28/
LOCATION:Theater – Destiny
CATEGORIES:Film
ATTACH;FMTTYPE=image/jpeg:https://spacecenter.org/wp-content/uploads/2022/10/Destiny-Theater.jpg
END:VEVENT
BEGIN:VEVENT
DTSTART;TZID=America/Chicago:20250828T113000
DTEND;TZID=America/Chicago:20250828T122000
DTSTAMP:20260423T042146
CREATED:20250602T215324Z
LAST-MODIFIED:20250603T190108Z
UID:10130602-1756380600-1756383600@spacecenter.org
SUMMARY:The Moonwalkers: A Journey with Tom Hanks
DESCRIPTION:
URL:https://spacecenter.org/events-calendar-event/the-moonwalkers-a-journey-with-tom-hanks-2/2025-08-28/
LOCATION:Theater – Space Center
CATEGORIES:Film
ATTACH;FMTTYPE=image/png:https://spacecenter.org/wp-content/uploads/2025/03/moonwalkers.png
END:VEVENT
BEGIN:VEVENT
DTSTART;TZID=America/Chicago:20250828T123000
DTEND;TZID=America/Chicago:20250828T132000
DTSTAMP:20260423T042146
CREATED:20250602T215422Z
LAST-MODIFIED:20250603T190647Z
UID:10145226-1756384200-1756387200@spacecenter.org
SUMMARY:The Moonwalkers: A Journey with Tom Hanks
DESCRIPTION:
URL:https://spacecenter.org/events-calendar-event/the-moonwalkers-a-journey-with-tom-hanks-3/2025-08-28/
LOCATION:Theater – Space Center
CATEGORIES:Film
ATTACH;FMTTYPE=image/png:https://spacecenter.org/wp-content/uploads/2025/03/moonwalkers.png
END:VEVENT
BEGIN:VEVENT
DTSTART;TZID=America/Chicago:20250828T130000
DTEND;TZID=America/Chicago:20250828T134500
DTSTAMP:20260423T042146
CREATED:20250602T211211Z
LAST-MODIFIED:20250603T190850Z
UID:10156194-1756386000-1756388700@spacecenter.org
SUMMARY:Down to Earth: The Astronaut's Perspective Film
DESCRIPTION:
URL:https://spacecenter.org/events-calendar-event/down-to-earth-the-astronauts-perspective-film-2/2025-08-28/
LOCATION:Mission Briefing Center
CATEGORIES:Film
ATTACH;FMTTYPE=image/jpeg:https://spacecenter.org/wp-content/uploads/2025/02/profdeveducators1.jpg
END:VEVENT
BEGIN:VEVENT
DTSTART;TZID=America/Chicago:20250828T133000
DTEND;TZID=America/Chicago:20250828T142000
DTSTAMP:20260423T042146
CREATED:20250602T215510Z
LAST-MODIFIED:20250603T190957Z
UID:10163506-1756387800-1756390800@spacecenter.org
SUMMARY:The Moonwalkers: A Journey with Tom Hanks
DESCRIPTION:
URL:https://spacecenter.org/events-calendar-event/the-moonwalkers-a-journey-with-tom-hanks-4/2025-08-28/
LOCATION:Theater – Space Center
CATEGORIES:Film
ATTACH;FMTTYPE=image/png:https://spacecenter.org/wp-content/uploads/2025/03/moonwalkers.png
END:VEVENT
BEGIN:VEVENT
DTSTART;TZID=America/Chicago:20250828T140000
DTEND;TZID=America/Chicago:20250828T144500
DTSTAMP:20260423T042146
CREATED:20250602T211401Z
LAST-MODIFIED:20250603T191451Z
UID:10178130-1756389600-1756392300@spacecenter.org
SUMMARY:Down to Earth: The Astronaut's Perspective Film
DESCRIPTION:
URL:https://spacecenter.org/events-calendar-event/down-to-earth-the-astronauts-perspective-film-3/2025-08-28/
LOCATION:Mission Briefing Center
CATEGORIES:Film
ATTACH;FMTTYPE=image/jpeg:https://spacecenter.org/wp-content/uploads/2025/02/profdeveducators1.jpg
END:VEVENT
BEGIN:VEVENT
DTSTART;TZID=America/Chicago:20250828T143000
DTEND;TZID=America/Chicago:20250828T152000
DTSTAMP:20260423T042146
CREATED:20250602T215601Z
LAST-MODIFIED:20250603T191630Z
UID:10181786-1756391400-1756394400@spacecenter.org
SUMMARY:The Moonwalkers: A Journey with Tom Hanks
DESCRIPTION:
URL:https://spacecenter.org/events-calendar-event/the-moonwalkers-a-journey-with-tom-hanks-5/2025-08-28/
LOCATION:Theater – Space Center
CATEGORIES:Film
ATTACH;FMTTYPE=image/png:https://spacecenter.org/wp-content/uploads/2025/03/moonwalkers.png
END:VEVENT
END:VCALENDAR